BEGIN:VCALENDAR
VERSION:2.0
PRODID:-//jEvents 2.0 for Joomla//EN
CALSCALE:GREGORIAN
METHOD:PUBLISH
BEGIN:VTIMEZONE
TZID:Europe/Berlin
BEGIN:STANDARD
DTSTART:20151025T020000
RDATE:20160327T030000
TZOFFSETFROM:+0200
TZOFFSETTO:+0100
TZNAME:Europe/Berlin CET
END:STANDARD
BEGIN:STANDARD
DTSTART:20161030T020000
RDATE:20170326T030000
TZOFFSETFROM:+0200
TZOFFSETTO:+0100
TZNAME:Europe/Berlin CET
END:STANDARD
BEGIN:STANDARD
DTSTART:20171029T020000
RDATE:20180325T030000
TZOFFSETFROM:+0200
TZOFFSETTO:+0100
TZNAME:Europe/Berlin CET
END:STANDARD
BEGIN:STANDARD
DTSTART:20181028T020000
RDATE:20190331T030000
TZOFFSETFROM:+0200
TZOFFSETTO:+0100
TZNAME:Europe/Berlin CET
END:STANDARD
BEGIN:STANDARD
DTSTART:20191027T020000
RDATE:20200329T030000
TZOFFSETFROM:+0200
TZOFFSETTO:+0100
TZNAME:Europe/Berlin CET
END:STANDARD
BEGIN:STANDARD
DTSTART:20201025T020000
RDATE:20210328T030000
TZOFFSETFROM:+0200
TZOFFSETTO:+0100
TZNAME:Europe/Berlin CET
END:STANDARD
BEGIN:DAYLIGHT
DTSTART:20151011T170000
RDATE:20151025T020000
TZOFFSETFROM:+0100
TZOFFSETTO:+0200
TZNAME:Europe/Berlin CEST
END:DAYLIGHT
BEGIN:DAYLIGHT
DTSTART:20160327T030000
RDATE:20161030T020000
TZOFFSETFROM:+0100
TZOFFSETTO:+0200
TZNAME:Europe/Berlin CEST
END:DAYLIGHT
BEGIN:DAYLIGHT
DTSTART:20170326T030000
RDATE:20171029T020000
TZOFFSETFROM:+0100
TZOFFSETTO:+0200
TZNAME:Europe/Berlin CEST
END:DAYLIGHT
BEGIN:DAYLIGHT
DTSTART:20180325T030000
RDATE:20181028T020000
TZOFFSETFROM:+0100
TZOFFSETTO:+0200
TZNAME:Europe/Berlin CEST
END:DAYLIGHT
BEGIN:DAYLIGHT
DTSTART:20190331T030000
RDATE:20191027T020000
TZOFFSETFROM:+0100
TZOFFSETTO:+0200
TZNAME:Europe/Berlin CEST
END:DAYLIGHT
BEGIN:DAYLIGHT
DTSTART:20200329T030000
RDATE:20201025T020000
TZOFFSETFROM:+0100
TZOFFSETTO:+0200
TZNAME:Europe/Berlin CEST
END:DAYLIGHT
END:VTIMEZONE
BEGIN:VEVENT
UID:8e443fcb48751051a9d9571766803778
CATEGORIES:ADG-Termine
CREATED:20160229T171541
SUMMARY:ADG-Mitgliederversammlung 2016
LOCATION:Kulturhaus Neuperlach\, Hanns-Seidel-Platz 1\, 81737 München\,
DESCRIPTION:Tagesordnung:\n - Begrüßen der Teilnehmer, \n Feststellen der ordnungsgemäß
 en Einladung \n und der Beschlussfähigkeit der Versammlung Herr Hein\n\n - 
 Bericht des Vorstands Herr Hein\n\n - Bericht der Schatzmeisterin Frau Gugg
 enberger, \n\n - Bericht der Kassenprüfer Herr Hauser, \n Herr Hospe\n\n - 
 Diskussion zu den Tagesordnungspunkten 2, 3 und 4\n\n - Bestellung des Wahl
 leiters / der Wahlleiterin Herr Hein\n\n - Entlastung des Vorstandes Wahlle
 iter*in\n\n - Wahl des Vorstandes Wahlleiter*in\n\n - Wahl der Kassenprüfer
  Wahlleiter*in\n
X-ALT-DESC;FMTTYPE=text/html:<h1 class="western" style="margin-bottom: 0.2cm; text-align: left;"><span s
 tyle="font-size: small;"><strong>Tagesordnung:</strong></span></h1><ol><li>
 <p class="western" style="margin-bottom: 0.14cm; text-align: left;"><span s
 tyle="font-family: Frutiger-Light;"><span style="font-size: small;">Begrüße
 n der Teilnehmer, <br /> Feststellen der ordnungsgemäßen Einladung <br /> u
 nd der Beschlussfähigkeit der Versammlung Herr Hein</span></span></p></li><
 li><p class="western" style="margin-bottom: 0.14cm; text-align: left;"><spa
 n style="font-family: Frutiger-Light;"><span style="font-size: small;">Beri
 cht des Vorstands Herr Hein</span></span></p></li><li><p class="western" st
 yle="margin-bottom: 0.14cm; text-align: left;"><span style="font-family: Fr
 utiger-Light;"><span style="font-size: small;">Bericht der Schatzmeisterin 
 Frau Guggenberger, </span></span></p></li><li><p class="western" style="mar
 gin-bottom: 0.14cm; text-align: left;"><span style="font-family: Frutiger-L
 ight;"><span style="font-size: small;">Bericht der Kassenprüfer Herr Hauser
 , <br /> Herr Hospe</span></span></p></li><li><p class="western" style="mar
 gin-bottom: 0.14cm; text-align: left;"><span style="font-family: Frutiger-L
 ight;"><span style="font-size: small;">Diskussion zu den Tagesordnungspunkt
 en 2, 3 und 4</span></span></p></li><li><p class="western" style="margin-bo
 ttom: 0.14cm; text-align: left;"><span style="font-family: Frutiger-Light;"
 ><span style="font-size: small;">Bestellung des Wahlleiters / der Wahlleite
 rin Herr Hein</span></span></p></li><li><p class="western" style="margin-bo
 ttom: 0.14cm; text-align: left;"><span style="font-family: Frutiger-Light;"
 ><span style="font-size: small;">Entlastung des Vorstandes Wahlleiter*in</s
 pan></span></p></li><li><p class="western" style="margin-bottom: 0.14cm; te
 xt-align: left;"><span style="font-family: Frutiger-Light;"><span style="fo
 nt-size: small;">Wahl des Vorstandes Wahlleiter*in</span></span></p></li><l
 i><p class="western" style="margin-bottom: 0.14cm; text-align: left;"><span
  style="font-family: Frutiger-Light;"><span style="font-size: small;">Wahl 
 der Kassenprüfer Wahlleiter*in</span></span></p></li></ol>
X-EXTRAINFO:17 Uhr bis 20 Uhr
DTSTAMP:20260421T103438
DTSTART;TZID=Europe/Berlin:20161011T170000
DTEND;TZID=Europe/Berlin:20161011T180000
SEQUENCE:0
TRANSP:OPAQUE
END:VEVENT
END:VCALENDAR