BEGIN:VCALENDAR
VERSION:2.0
PRODID:-//jEvents 2.0 for Joomla//EN
CALSCALE:GREGORIAN
METHOD:PUBLISH
BEGIN:VTIMEZONE
TZID:Europe/Berlin
BEGIN:STANDARD
DTSTART:20151116T180000
RDATE:20160327T030000
TZOFFSETFROM:+0200
TZOFFSETTO:+0100
TZNAME:Europe/Berlin CET
END:STANDARD
BEGIN:STANDARD
DTSTART:20161030T020000
RDATE:20170326T030000
TZOFFSETFROM:+0200
TZOFFSETTO:+0100
TZNAME:Europe/Berlin CET
END:STANDARD
BEGIN:STANDARD
DTSTART:20171029T020000
RDATE:20180325T030000
TZOFFSETFROM:+0200
TZOFFSETTO:+0100
TZNAME:Europe/Berlin CET
END:STANDARD
BEGIN:STANDARD
DTSTART:20181028T020000
RDATE:20190331T030000
TZOFFSETFROM:+0200
TZOFFSETTO:+0100
TZNAME:Europe/Berlin CET
END:STANDARD
BEGIN:STANDARD
DTSTART:20191027T020000
RDATE:20200329T030000
TZOFFSETFROM:+0200
TZOFFSETTO:+0100
TZNAME:Europe/Berlin CET
END:STANDARD
BEGIN:STANDARD
DTSTART:20201025T020000
RDATE:20210328T030000
TZOFFSETFROM:+0200
TZOFFSETTO:+0100
TZNAME:Europe/Berlin CET
END:STANDARD
BEGIN:DAYLIGHT
DTSTART:20160327T030000
RDATE:20161030T020000
TZOFFSETFROM:+0100
TZOFFSETTO:+0200
TZNAME:Europe/Berlin CEST
END:DAYLIGHT
BEGIN:DAYLIGHT
DTSTART:20170326T030000
RDATE:20171029T020000
TZOFFSETFROM:+0100
TZOFFSETTO:+0200
TZNAME:Europe/Berlin CEST
END:DAYLIGHT
BEGIN:DAYLIGHT
DTSTART:20180325T030000
RDATE:20181028T020000
TZOFFSETFROM:+0100
TZOFFSETTO:+0200
TZNAME:Europe/Berlin CEST
END:DAYLIGHT
BEGIN:DAYLIGHT
DTSTART:20190331T030000
RDATE:20191027T020000
TZOFFSETFROM:+0100
TZOFFSETTO:+0200
TZNAME:Europe/Berlin CEST
END:DAYLIGHT
BEGIN:DAYLIGHT
DTSTART:20200329T030000
RDATE:20201025T020000
TZOFFSETFROM:+0100
TZOFFSETTO:+0200
TZNAME:Europe/Berlin CEST
END:DAYLIGHT
END:VTIMEZONE
BEGIN:VEVENT
UID:9ecda58e5c016f8e4fa66fc72cf53de4
CATEGORIES:Politik
CREATED:20161005T161724
SUMMARY:Zusatzbeitrag, morbiRSA, HZV, G-BA – ein Blick auf die Gesundheitspolitik vor dem Wahljahr 2017 
LOCATION:(kda) Schwanthalerstraße 91 D-80336 München
DESCRIPTION:<p class="text">&bdquo;Und bleib gesund. Gesundheit ist ja doch das Allerwi
 chtigste&ldquo;. Wer hat diesen Satz nicht schon einmal zu seinem Geburtsta
 g gehört? Dass Gesundheit ein hohes gesellschaftliches Gut ist, zeigt sich 
 daran, wie viel wir bereit sind, dafür auszugeben. Im Jahr 2014 waren es in
  Deutschland rund 330 Milliarden Euro oder über 4000 Euro pro Kopf. Wie das
  Gesundheitssystem jedoch funktioniert, wissen die wenigsten. Vor dem Wahlj
 ahr 2017 (Bundestagswahl, Sozialwahlen) lohnt daher ein Blick auf die Rahme
 nbedingungen und aktuelle Fragen der Gesundheitspolitik.</p><p class="text"
 >Referent: <span style="font-weight: bold;">Pfarrer Peter Lysy, kda Bayern 
 </span>/ Projekt &bdquo;Begleitung von Beschäftigten der AOK Bayern in Kris
 en- und Übergangssituationen&ldquo;</p>
DTSTAMP:20260421T093627
DTSTART;TZID=Europe/Berlin:20161116T180000
DTEND;TZID=Europe/Berlin:20161116T200000
SEQUENCE:0
TRANSP:OPAQUE
END:VEVENT
END:VCALENDAR