BEGIN:VCALENDAR
VERSION:2.0
PRODID:-//jEvents 2.0 for Joomla//EN
CALSCALE:GREGORIAN
METHOD:PUBLISH
BEGIN:VTIMEZONE
TZID:Europe/Berlin
BEGIN:STANDARD
DTSTART:20161030T020000
RDATE:20170326T030000
TZOFFSETFROM:+0200
TZOFFSETTO:+0100
TZNAME:Europe/Berlin CET
END:STANDARD
BEGIN:STANDARD
DTSTART:20171029T020000
RDATE:20180325T030000
TZOFFSETFROM:+0200
TZOFFSETTO:+0100
TZNAME:Europe/Berlin CET
END:STANDARD
BEGIN:STANDARD
DTSTART:20181028T020000
RDATE:20190331T030000
TZOFFSETFROM:+0200
TZOFFSETTO:+0100
TZNAME:Europe/Berlin CET
END:STANDARD
BEGIN:STANDARD
DTSTART:20191027T020000
RDATE:20200329T030000
TZOFFSETFROM:+0200
TZOFFSETTO:+0100
TZNAME:Europe/Berlin CET
END:STANDARD
BEGIN:STANDARD
DTSTART:20201025T020000
RDATE:20210328T030000
TZOFFSETFROM:+0200
TZOFFSETTO:+0100
TZNAME:Europe/Berlin CET
END:STANDARD
BEGIN:DAYLIGHT
DTSTART:20160423T180000
RDATE:20161030T020000
TZOFFSETFROM:+0100
TZOFFSETTO:+0200
TZNAME:Europe/Berlin CEST
END:DAYLIGHT
BEGIN:DAYLIGHT
DTSTART:20170326T030000
RDATE:20171029T020000
TZOFFSETFROM:+0100
TZOFFSETTO:+0200
TZNAME:Europe/Berlin CEST
END:DAYLIGHT
BEGIN:DAYLIGHT
DTSTART:20180325T030000
RDATE:20181028T020000
TZOFFSETFROM:+0100
TZOFFSETTO:+0200
TZNAME:Europe/Berlin CEST
END:DAYLIGHT
BEGIN:DAYLIGHT
DTSTART:20190331T030000
RDATE:20191027T020000
TZOFFSETFROM:+0100
TZOFFSETTO:+0200
TZNAME:Europe/Berlin CEST
END:DAYLIGHT
BEGIN:DAYLIGHT
DTSTART:20200329T030000
RDATE:20201025T020000
TZOFFSETFROM:+0100
TZOFFSETTO:+0200
TZNAME:Europe/Berlin CEST
END:DAYLIGHT
END:VTIMEZONE
BEGIN:VEVENT
UID:61f6ca1a5e8c74e4084e12166ed9fb30
CATEGORIES:Politik
CREATED:20170320T221728
SUMMARY:Diskussionsveranstaltung "Rentenreform: wie weiter mit den Ost-Renten?"
LOCATION:Potsdam
DESCRIPTION:Weitere Informationen und das Programm finden sie unter http://www.rosalux.
 de/ostrenten (http://www.rosalux.de/ostrenten).\nThema ist die immer noch a
 usstehende Rentenangleichung in Ost und West. Auch 28 Jahre nach dem Mauerf
 all erhalten Ostdeutsche im Vergleich niedrigere Renten für gleiche berufli
 che Leistung. Die Bundesregierung hat nun die Angleichung der Rentenwerte b
 is zum Jahr 2025 versprochen. Im Gegenzug soll die Umwertung der ostdeutsch
 en Rentenansprüche wegfallen. Das betrifft nicht nur alte Menschen, sondern
  auch jüngerere Jahrgänge.\n Wie sind die Pläne zu bewerten? Ist damit ein 
 Ende der Ungleichheit erreicht? Womit müssen jetzige und künftige Rentnerin
 nen und Rentner rechnen? Wie gelingt eine wirkliche Anerkennung der Lebensl
 eistung ostdeutscher Beschäftigter?Auf der Abendveranstaltung\nmöchten wir 
 diese Fragen mit Ihnen kontrovers diskutieren.\nÜber Ihre Teilnahme würde i
 ch mich sehr freuen.\n
X-ALT-DESC;FMTTYPE=text/html:<p>Weitere Informationen und das Programm finden sie unter <a href="http://
 www.rosalux.de/ostrenten">http://www.rosalux.de/ostrenten</a>.</p><p>Thema 
 ist die immer noch ausstehende Rentenangleichung in Ost und West. Auch 28 J
 ahre nach dem Mauerfall erhalten Ostdeutsche im Vergleich niedrigere Renten
  für gleiche berufliche Leistung. Die Bundesregierung hat nun die Angleichu
 ng der Rentenwerte bis zum Jahr 2025 versprochen. Im Gegenzug soll die Umwe
 rtung der ostdeutschen Rentenansprüche wegfallen. Das betrifft nicht nur al
 te Menschen, sondern auch jüngerere Jahrgänge.<br /> Wie sind die Pläne zu 
 bewerten? Ist damit ein Ende der Ungleichheit erreicht? Womit müssen jetzig
 e und künftige Rentnerinnen und Rentner rechnen? Wie gelingt eine wirkliche
  Anerkennung der Lebensleistung ostdeutscher Beschäftigter?Auf der Abendver
 anstaltung</p><p>möchten wir diese Fragen mit Ihnen kontrovers diskutieren.
 </p><p>Über Ihre Teilnahme würde ich mich sehr freuen.</p>
DTSTAMP:20260421T103415
DTSTART;TZID=Europe/Berlin:20170424T180000
DTEND;TZID=Europe/Berlin:20170424T203000
SEQUENCE:0
TRANSP:OPAQUE
END:VEVENT
END:VCALENDAR