BEGIN:VCALENDAR
VERSION:2.0
PRODID:-//jEvents 2.0 for Joomla//EN
CALSCALE:GREGORIAN
METHOD:PUBLISH
BEGIN:VTIMEZONE
TZID:Europe/Berlin
BEGIN:STANDARD
DTSTART:20141026T020000
RDATE:20150329T030000
TZOFFSETFROM:+0200
TZOFFSETTO:+0100
TZNAME:Europe/Berlin CET
END:STANDARD
BEGIN:STANDARD
DTSTART:20151025T020000
RDATE:20160327T030000
TZOFFSETFROM:+0200
TZOFFSETTO:+0100
TZNAME:Europe/Berlin CET
END:STANDARD
BEGIN:STANDARD
DTSTART:20161030T020000
RDATE:20170326T030000
TZOFFSETFROM:+0200
TZOFFSETTO:+0100
TZNAME:Europe/Berlin CET
END:STANDARD
BEGIN:STANDARD
DTSTART:20171029T020000
RDATE:20180325T030000
TZOFFSETFROM:+0200
TZOFFSETTO:+0100
TZNAME:Europe/Berlin CET
END:STANDARD
BEGIN:STANDARD
DTSTART:20181028T020000
RDATE:20190331T030000
TZOFFSETFROM:+0200
TZOFFSETTO:+0100
TZNAME:Europe/Berlin CET
END:STANDARD
BEGIN:STANDARD
DTSTART:20191027T020000
RDATE:20200329T030000
TZOFFSETFROM:+0200
TZOFFSETTO:+0100
TZNAME:Europe/Berlin CET
END:STANDARD
BEGIN:STANDARD
DTSTART:20201025T020000
RDATE:20210328T030000
TZOFFSETFROM:+0200
TZOFFSETTO:+0100
TZNAME:Europe/Berlin CET
END:STANDARD
BEGIN:DAYLIGHT
DTSTART:20140417T130000
RDATE:20141026T020000
TZOFFSETFROM:+0100
TZOFFSETTO:+0200
TZNAME:Europe/Berlin CEST
END:DAYLIGHT
BEGIN:DAYLIGHT
DTSTART:20150329T030000
RDATE:20151025T020000
TZOFFSETFROM:+0100
TZOFFSETTO:+0200
TZNAME:Europe/Berlin CEST
END:DAYLIGHT
BEGIN:DAYLIGHT
DTSTART:20160327T030000
RDATE:20161030T020000
TZOFFSETFROM:+0100
TZOFFSETTO:+0200
TZNAME:Europe/Berlin CEST
END:DAYLIGHT
BEGIN:DAYLIGHT
DTSTART:20170326T030000
RDATE:20171029T020000
TZOFFSETFROM:+0100
TZOFFSETTO:+0200
TZNAME:Europe/Berlin CEST
END:DAYLIGHT
BEGIN:DAYLIGHT
DTSTART:20180325T030000
RDATE:20181028T020000
TZOFFSETFROM:+0100
TZOFFSETTO:+0200
TZNAME:Europe/Berlin CEST
END:DAYLIGHT
BEGIN:DAYLIGHT
DTSTART:20190331T030000
RDATE:20191027T020000
TZOFFSETFROM:+0100
TZOFFSETTO:+0200
TZNAME:Europe/Berlin CEST
END:DAYLIGHT
BEGIN:DAYLIGHT
DTSTART:20200329T030000
RDATE:20201025T020000
TZOFFSETFROM:+0100
TZOFFSETTO:+0200
TZNAME:Europe/Berlin CEST
END:DAYLIGHT
END:VTIMEZONE
BEGIN:VEVENT
UID:c34cdb450d3ff9b2e92fa9ff92a5e534
CATEGORIES:ADG-Termine
CREATED:20150225T170813
SUMMARY:Demo: "Solidarität und soziale Gerechtigkeit"
LOCATION:vor demM.O.C.
DESCRIPTION:Es beteiligen sich neben der Kooperation:\nBetriebsrentner e.V. (adg/index.
 php?option=com_content&amp;view=article&amp;id=106:betriebsrentner-ev&amp;c
 atid=87&amp;Itemid=226)\nBündnis für Rentenbeitragszahler und Rentner e.V. 
 (adg/index.php?option=com_content&amp;view=article&amp;id=104:buendnis-fuer
 -rentenbeitragszahler-und-rentner-ev&amp;catid=87&amp;Itemid=226)\nBüro geg
 en Altersdiskriminierung (adg/index.php?option=com_content&amp;view=article
 &amp;id=107:das-buero-gegen-altersdiskriminierung&amp;catid=87&amp;Itemid=2
 26)\nauch folgende Gruppen:\n\n - Rentner Gewerkschaft Deutschland RGD.\n -
  Deutsche Renten Union DRU,\n - Aktion21-RRP,\n - Arbeitnehmer und Renten U
 nion ARU
X-ALT-DESC;FMTTYPE=text/html:<p>Es beteiligen sich neben der Kooperation:</p><p style="padding-left: 30p
 x;"><a href="https://www.adg-ev.de/adg/index.php?option=com_content&view=ar
 ticle&id=106:betriebsrentner-ev&catid=87&Itemid=226" target="_blank"><stron
 g>Betriebsrentner e.V.</strong></a></p><p style="padding-left: 30px;"><a hr
 ef="https://www.adg-ev.de/adg/index.php?option=com_content&view=article&id=
 104:buendnis-fuer-rentenbeitragszahler-und-rentner-ev&catid=87&Itemid=226" 
 target="_blank"><strong>Bündnis für </strong><strong>Rentenbeitragszahler u
 nd Rentner e.V.</strong></a></p><p style="padding-left: 30px;"><a href="htt
 ps://www.adg-ev.de/adg/index.php?option=com_content&view=article&id=107:das
 -buero-gegen-altersdiskriminierung&catid=87&Itemid=226" target="_blank"><st
 rong>Büro gegen Altersdiskriminierung</strong></a></p><p>auch folgende Grup
 pen:</p><ul><li>Rentner Gewerkschaft Deutschland RGD.</li><li>Deutsche Rent
 en Union DRU,</li><li>Aktion21-RRP,</li><li>Arbeitnehmer und Renten Union A
 RU</li></ul>
DTSTAMP:20260421T103336
DTSTART;TZID=Europe/Berlin:20150418T130000
SEQUENCE:0
TRANSP:OPAQUE
END:VEVENT
END:VCALENDAR