BEGIN:VCALENDAR
VERSION:2.0
PRODID:-//jEvents 2.0 for Joomla//EN
CALSCALE:GREGORIAN
METHOD:PUBLISH
BEGIN:VTIMEZONE
TZID:Europe/Berlin
BEGIN:STANDARD
DTSTART:20141026T020000
RDATE:20150329T030000
TZOFFSETFROM:+0200
TZOFFSETTO:+0100
TZNAME:Europe/Berlin CET
END:STANDARD
BEGIN:STANDARD
DTSTART:20151025T020000
RDATE:20160327T030000
TZOFFSETFROM:+0200
TZOFFSETTO:+0100
TZNAME:Europe/Berlin CET
END:STANDARD
BEGIN:STANDARD
DTSTART:20161030T020000
RDATE:20170326T030000
TZOFFSETFROM:+0200
TZOFFSETTO:+0100
TZNAME:Europe/Berlin CET
END:STANDARD
BEGIN:STANDARD
DTSTART:20171029T020000
RDATE:20180325T030000
TZOFFSETFROM:+0200
TZOFFSETTO:+0100
TZNAME:Europe/Berlin CET
END:STANDARD
BEGIN:STANDARD
DTSTART:20181028T020000
RDATE:20190331T030000
TZOFFSETFROM:+0200
TZOFFSETTO:+0100
TZNAME:Europe/Berlin CET
END:STANDARD
BEGIN:STANDARD
DTSTART:20191027T020000
RDATE:20200329T030000
TZOFFSETFROM:+0200
TZOFFSETTO:+0100
TZNAME:Europe/Berlin CET
END:STANDARD
BEGIN:STANDARD
DTSTART:20201025T020000
RDATE:20210328T030000
TZOFFSETFROM:+0200
TZOFFSETTO:+0100
TZNAME:Europe/Berlin CET
END:STANDARD
BEGIN:DAYLIGHT
DTSTART:20140412T193000
RDATE:20141026T020000
TZOFFSETFROM:+0100
TZOFFSETTO:+0200
TZNAME:Europe/Berlin CEST
END:DAYLIGHT
BEGIN:DAYLIGHT
DTSTART:20150329T030000
RDATE:20151025T020000
TZOFFSETFROM:+0100
TZOFFSETTO:+0200
TZNAME:Europe/Berlin CEST
END:DAYLIGHT
BEGIN:DAYLIGHT
DTSTART:20160327T030000
RDATE:20161030T020000
TZOFFSETFROM:+0100
TZOFFSETTO:+0200
TZNAME:Europe/Berlin CEST
END:DAYLIGHT
BEGIN:DAYLIGHT
DTSTART:20170326T030000
RDATE:20171029T020000
TZOFFSETFROM:+0100
TZOFFSETTO:+0200
TZNAME:Europe/Berlin CEST
END:DAYLIGHT
BEGIN:DAYLIGHT
DTSTART:20180325T030000
RDATE:20181028T020000
TZOFFSETFROM:+0100
TZOFFSETTO:+0200
TZNAME:Europe/Berlin CEST
END:DAYLIGHT
BEGIN:DAYLIGHT
DTSTART:20190331T030000
RDATE:20191027T020000
TZOFFSETFROM:+0100
TZOFFSETTO:+0200
TZNAME:Europe/Berlin CEST
END:DAYLIGHT
BEGIN:DAYLIGHT
DTSTART:20200329T030000
RDATE:20201025T020000
TZOFFSETFROM:+0100
TZOFFSETTO:+0200
TZNAME:Europe/Berlin CEST
END:DAYLIGHT
END:VTIMEZONE
BEGIN:VEVENT
UID:1fddaf7adbffa30941588838cac51d00
CATEGORIES:Politik
CREATED:20150331T194229
SUMMARY:Das Internet der Dinge - Einfluss auf Wirtschaft, Politik und Privatleben
LOCATION: Hotel Eden-Wolff Arnulfstraße 4-8 80335 München
DESCRIPTION:Das Internet der Dinge ist in aller Munde und bereits in verschiedenen Bere
 ichen Realität. Immer mehr umgeben uns Gegenstände und Infrastrukturen, die
  vernetzt sind.\n Was ist aber das Internet der Dinge (IoT) und was ist das
  Internet aller Dinge (IoE)? Warum entsteht das Internet der Dinge? Was bed
 eutet das für die Wirtschaft, die Politik und die Kommunen / Städte?\n An H
 and von ausgewählten Beispielen wird gezeigt, welche Möglichkeiten sich im 
 industriellen und öffentlichen Umfeld ergeben ebenso welche Herausforderung
 en in diesem Zusammenhang auf alle Industriezweige zukommen. Und was bedeut
 et das Internet der Dinge für Berufsbilder und die entsprechende Ausbildung
 ?\n Führt das Internet der Dinge zu einem gesellschaftlichen Wandel?\n Die 
 Präsentation soll Informationen liefern aber auch zum Nachdenken und Diskut
 ieren anregen und einladen. Eine Interaktion mit dem Zuhörerkreis ist gewün
 scht und soll dazu führen, dass alle neue Aspekte dieser Thematik mitnehmen
  können. Deutlich wird auch werden, dass ohne IT in Zukunft selbst einfache
  Dinge nicht mehr funktionieren werden.\nUwe Northmann ist bei Cisco seit ü
 ber 14 Jahren und im Public Sector Deutschland für das Thema Smart + Connec
 ted Communities verantwortlich.\n
X-ALT-DESC;FMTTYPE=text/html:<div class="views-field views-field-field-abstract"><div class="field-conte
 nt grid-9 alpha zeilenanfang"><p>Das Internet der Dinge ist in aller Munde 
 und bereits in verschiedenen Bereichen Realität. Immer mehr umgeben uns Geg
 enstände und Infrastrukturen, die vernetzt sind.<br /> Was ist aber das Int
 ernet der Dinge (IoT) und was ist das Internet aller Dinge (IoE)? Warum ent
 steht das Internet der Dinge? Was bedeutet das für die Wirtschaft, die Poli
 tik und die Kommunen / Städte?<br /> An Hand von ausgewählten Beispielen wi
 rd gezeigt, welche Möglichkeiten sich im industriellen und öffentlichen Umf
 eld ergeben ebenso welche Herausforderungen in diesem Zusammenhang auf alle
  Industriezweige zukommen. Und was bedeutet das Internet der Dinge für Beru
 fsbilder und die entsprechende Ausbildung?<br /> Führt das Internet der Din
 ge zu einem gesellschaftlichen Wandel?<br /> Die Präsentation soll Informat
 ionen liefern aber auch zum Nachdenken und Diskutieren anregen und einladen
 . Eine Interaktion mit dem Zuhörerkreis ist gewünscht und soll dazu führen,
  dass alle neue Aspekte dieser Thematik mitnehmen können. Deutlich wird auc
 h werden, dass ohne IT in Zukunft selbst einfache Dinge nicht mehr funktion
 ieren werden.</p><p>Uwe Northmann ist bei Cisco seit über 14 Jahren und im 
 Public Sector Deutschland für das Thema Smart + Connected Communities veran
 twortlich.</p></div></div>
CONTACT:http://rg-muenchen.gi.de/veranst/1308
DTSTAMP:20260421T103417
DTSTART;TZID=Europe/Berlin:20150413T193000
SEQUENCE:0
TRANSP:OPAQUE
END:VEVENT
END:VCALENDAR