BEGIN:VCALENDAR
VERSION:2.0
PRODID:-//jEvents 2.0 for Joomla//EN
CALSCALE:GREGORIAN
METHOD:PUBLISH
BEGIN:VTIMEZONE
TZID:Europe/Berlin
BEGIN:STANDARD
DTSTART:20141026T020000
RDATE:20150329T030000
TZOFFSETFROM:+0200
TZOFFSETTO:+0100
TZNAME:Europe/Berlin CET
END:STANDARD
BEGIN:STANDARD
DTSTART:20151025T020000
RDATE:20160327T030000
TZOFFSETFROM:+0200
TZOFFSETTO:+0100
TZNAME:Europe/Berlin CET
END:STANDARD
BEGIN:STANDARD
DTSTART:20161030T020000
RDATE:20170326T030000
TZOFFSETFROM:+0200
TZOFFSETTO:+0100
TZNAME:Europe/Berlin CET
END:STANDARD
BEGIN:STANDARD
DTSTART:20171029T020000
RDATE:20180325T030000
TZOFFSETFROM:+0200
TZOFFSETTO:+0100
TZNAME:Europe/Berlin CET
END:STANDARD
BEGIN:STANDARD
DTSTART:20181028T020000
RDATE:20190331T030000
TZOFFSETFROM:+0200
TZOFFSETTO:+0100
TZNAME:Europe/Berlin CET
END:STANDARD
BEGIN:STANDARD
DTSTART:20191027T020000
RDATE:20200329T030000
TZOFFSETFROM:+0200
TZOFFSETTO:+0100
TZNAME:Europe/Berlin CET
END:STANDARD
BEGIN:STANDARD
DTSTART:20201025T020000
RDATE:20210328T030000
TZOFFSETFROM:+0200
TZOFFSETTO:+0100
TZNAME:Europe/Berlin CET
END:STANDARD
BEGIN:DAYLIGHT
DTSTART:20140423T080000
RDATE:20141026T020000
TZOFFSETFROM:+0100
TZOFFSETTO:+0200
TZNAME:Europe/Berlin CEST
END:DAYLIGHT
BEGIN:DAYLIGHT
DTSTART:20150329T030000
RDATE:20151025T020000
TZOFFSETFROM:+0100
TZOFFSETTO:+0200
TZNAME:Europe/Berlin CEST
END:DAYLIGHT
BEGIN:DAYLIGHT
DTSTART:20160327T030000
RDATE:20161030T020000
TZOFFSETFROM:+0100
TZOFFSETTO:+0200
TZNAME:Europe/Berlin CEST
END:DAYLIGHT
BEGIN:DAYLIGHT
DTSTART:20170326T030000
RDATE:20171029T020000
TZOFFSETFROM:+0100
TZOFFSETTO:+0200
TZNAME:Europe/Berlin CEST
END:DAYLIGHT
BEGIN:DAYLIGHT
DTSTART:20180325T030000
RDATE:20181028T020000
TZOFFSETFROM:+0100
TZOFFSETTO:+0200
TZNAME:Europe/Berlin CEST
END:DAYLIGHT
BEGIN:DAYLIGHT
DTSTART:20190331T030000
RDATE:20191027T020000
TZOFFSETFROM:+0100
TZOFFSETTO:+0200
TZNAME:Europe/Berlin CEST
END:DAYLIGHT
BEGIN:DAYLIGHT
DTSTART:20200329T030000
RDATE:20201025T020000
TZOFFSETFROM:+0100
TZOFFSETTO:+0200
TZNAME:Europe/Berlin CEST
END:DAYLIGHT
END:VTIMEZONE
BEGIN:VEVENT
UID:bd7d677838e2d2e95c081d072032418f
CATEGORIES:Politik
CREATED:20150418T163120
SUMMARY:Mahnwache und Demo Stuttgart
LOCATION:Stuttgart Landessozialgericht
DESCRIPTION:Interessengemeinschaft GMG -Geschädigte -Direktversichertewww.gmg-geschädig
 te.dewww.facebook.com/groups/gmggeschaedigteInteressengemeinschaftAufruf zu
 r Mahnwache und Demonstration gegen Vertrauensbruch und politische Willkür 
 in Stuttgart\nInteressengemeinschaft GMG - geschädigte - Direktversicherte 
 macht mobil und fordert die Politik bei der betrieblichen Altersversorgung 
 zur Umkehr auf.\nUnter dem Motto „gegen Vertragsbruch und politische Willkü
 r!“ ruft sie betroffene Bürgerinnen und Bürger inStuttgart am 24. April zu 
 einer Mahnwache vor dem Landessozialgericht Baden -Württemberg und einem an
 schließenden Demonstrationszug bis vor dem Landtag auf.
X-ALT-DESC;FMTTYPE=text/html:<div data-canvas-width="100.13800533802599">Interessengemeinschaft GMG -Ges
 chädigte -Direktversicherte</div><div data-canvas-width="90.53800538910599"
 >www.gmg-geschädigte.de</div><div data-canvas-width="268.9380032080699">www
 .facebook.com/groups/gmggeschaedigte</div><div data-canvas-width="195.85742
 36885867">Interessengemeinschaft</div><p>Aufruf zur Mahnwache und Demonstra
 tion gegen Vertrauensbruch und politische Willkür in Stuttgart</p><p>Intere
 ssengemeinschaft GMG - geschädigte - Direktversicherte macht mobil und ford
 ert die Politik bei der betrieblichen Altersversorgung zur Umkehr auf.</p><
 div data-canvas-width="487.55717492533324">Unter dem Motto &bdquo;gegen Ver
 tragsbruch und politische Willkür!&ldquo; ruft sie betroffene Bürgerinnen u
 nd Bürger inStuttgart am 24. April zu einer Mahnwache vor dem Landessozialg
 ericht Baden -Württemberg und einem anschließenden Demonstrationszug bis vo
 r dem Landtag auf.</div>
DTSTAMP:20260421T103337
DTSTART;TZID=Europe/Berlin:20150424T080000
SEQUENCE:0
TRANSP:OPAQUE
END:VEVENT
END:VCALENDAR