BEGIN:VCALENDAR
VERSION:2.0
PRODID:-//jEvents 2.0 for Joomla//EN
CALSCALE:GREGORIAN
METHOD:PUBLISH
BEGIN:VTIMEZONE
TZID:Europe/Berlin
BEGIN:STANDARD
DTSTART:20141026T020000
RDATE:20150329T030000
TZOFFSETFROM:+0200
TZOFFSETTO:+0100
TZNAME:Europe/Berlin CET
END:STANDARD
BEGIN:STANDARD
DTSTART:20151025T020000
RDATE:20160327T030000
TZOFFSETFROM:+0200
TZOFFSETTO:+0100
TZNAME:Europe/Berlin CET
END:STANDARD
BEGIN:STANDARD
DTSTART:20161030T020000
RDATE:20170326T030000
TZOFFSETFROM:+0200
TZOFFSETTO:+0100
TZNAME:Europe/Berlin CET
END:STANDARD
BEGIN:STANDARD
DTSTART:20171029T020000
RDATE:20180325T030000
TZOFFSETFROM:+0200
TZOFFSETTO:+0100
TZNAME:Europe/Berlin CET
END:STANDARD
BEGIN:STANDARD
DTSTART:20181028T020000
RDATE:20190331T030000
TZOFFSETFROM:+0200
TZOFFSETTO:+0100
TZNAME:Europe/Berlin CET
END:STANDARD
BEGIN:STANDARD
DTSTART:20191027T020000
RDATE:20200329T030000
TZOFFSETFROM:+0200
TZOFFSETTO:+0100
TZNAME:Europe/Berlin CET
END:STANDARD
BEGIN:STANDARD
DTSTART:20201025T020000
RDATE:20210328T030000
TZOFFSETFROM:+0200
TZOFFSETTO:+0100
TZNAME:Europe/Berlin CET
END:STANDARD
BEGIN:DAYLIGHT
DTSTART:20140427T201500
RDATE:20141026T020000
TZOFFSETFROM:+0100
TZOFFSETTO:+0200
TZNAME:Europe/Berlin CEST
END:DAYLIGHT
BEGIN:DAYLIGHT
DTSTART:20150329T030000
RDATE:20151025T020000
TZOFFSETFROM:+0100
TZOFFSETTO:+0200
TZNAME:Europe/Berlin CEST
END:DAYLIGHT
BEGIN:DAYLIGHT
DTSTART:20160327T030000
RDATE:20161030T020000
TZOFFSETFROM:+0100
TZOFFSETTO:+0200
TZNAME:Europe/Berlin CEST
END:DAYLIGHT
BEGIN:DAYLIGHT
DTSTART:20170326T030000
RDATE:20171029T020000
TZOFFSETFROM:+0100
TZOFFSETTO:+0200
TZNAME:Europe/Berlin CEST
END:DAYLIGHT
BEGIN:DAYLIGHT
DTSTART:20180325T030000
RDATE:20181028T020000
TZOFFSETFROM:+0100
TZOFFSETTO:+0200
TZNAME:Europe/Berlin CEST
END:DAYLIGHT
BEGIN:DAYLIGHT
DTSTART:20190331T030000
RDATE:20191027T020000
TZOFFSETFROM:+0100
TZOFFSETTO:+0200
TZNAME:Europe/Berlin CEST
END:DAYLIGHT
BEGIN:DAYLIGHT
DTSTART:20200329T030000
RDATE:20201025T020000
TZOFFSETFROM:+0100
TZOFFSETTO:+0200
TZNAME:Europe/Berlin CEST
END:DAYLIGHT
END:VTIMEZONE
BEGIN:VEVENT
UID:f192d164dd56dc813e79bf0aefe9787b
CATEGORIES:Rundfunk&Fernsehen
CREATED:20150428T215131
SUMMARY:alpha-Forum: Rudolf Dressler
DESCRIPTION:<div>Im alpha-Forum kommen Persönlichkeiten aus Politik und Wirtschaft, Wis
 senschaft und Gesellschaft, Religion und Kultur in 45 Minuten ausführlich z
 u Wort. In hintergründigen Zwiegesprächen entstehen Porträts der Interviewt
 en, in denen genügend Zeit für Details und Nuancen bleibt. Nicht das kurze,
  mediengerechte Zitat, sondern der Lebensweg des Gesprächspartners mit all 
 seinen Erfolgen und Rückschlägen steht im Mittelpunkt von alpha-Forum.</div
 ><p>Rudolf Dreßler war zwanzig Jahre Mitglied des Deutschen Bundestages, er
  war Vorsitzender der Arbeitsgemeinschaft für Arbeitnehmerfragen, Mitglied 
 im Parteivorstand und im Präsidium der SPD. Von 2000 bis 2005 war er Botsch
 after der Bundesrepublik Deutschland in Israel.<br />Moderation: Werner Reu
 ß</p><p>Sendung verpasst?</p><p><strong>ARD-alpha, Wiederholung am 29.04.20
 15, 13:00 Uhr. <br /></strong></p><p>Sendung in der Mediathek!</p><p><a hre
 f="http://www.br.de/fernsehen/ard-alpha/programmkalender/sendung-884914.htm
 l" target="_blank">BR alpha-Forumalpha-Forum</a></p>
DTSTAMP:20260421T103604
DTSTART;TZID=Europe/Berlin:20150428T201500
DTEND;TZID=Europe/Berlin:20150428T210000
SEQUENCE:0
TRANSP:OPAQUE
END:VEVENT
END:VCALENDAR