BEGIN:VCALENDAR
VERSION:2.0
PRODID:-//jEvents 2.0 for Joomla//EN
CALSCALE:GREGORIAN
METHOD:PUBLISH
BEGIN:VTIMEZONE
TZID:Europe/Berlin
BEGIN:STANDARD
DTSTART:20151025T020000
RDATE:20160327T030000
TZOFFSETFROM:+0200
TZOFFSETTO:+0100
TZNAME:Europe/Berlin CET
END:STANDARD
BEGIN:STANDARD
DTSTART:20161030T020000
RDATE:20170326T030000
TZOFFSETFROM:+0200
TZOFFSETTO:+0100
TZNAME:Europe/Berlin CET
END:STANDARD
BEGIN:STANDARD
DTSTART:20171029T020000
RDATE:20180325T030000
TZOFFSETFROM:+0200
TZOFFSETTO:+0100
TZNAME:Europe/Berlin CET
END:STANDARD
BEGIN:STANDARD
DTSTART:20181028T020000
RDATE:20190331T030000
TZOFFSETFROM:+0200
TZOFFSETTO:+0100
TZNAME:Europe/Berlin CET
END:STANDARD
BEGIN:STANDARD
DTSTART:20191027T020000
RDATE:20200329T030000
TZOFFSETFROM:+0200
TZOFFSETTO:+0100
TZNAME:Europe/Berlin CET
END:STANDARD
BEGIN:STANDARD
DTSTART:20201025T020000
RDATE:20210328T030000
TZOFFSETFROM:+0200
TZOFFSETTO:+0100
TZNAME:Europe/Berlin CET
END:STANDARD
BEGIN:DAYLIGHT
DTSTART:20150423T000000
RDATE:20151025T020000
TZOFFSETFROM:+0100
TZOFFSETTO:+0200
TZNAME:Europe/Berlin CEST
END:DAYLIGHT
BEGIN:DAYLIGHT
DTSTART:20160327T030000
RDATE:20161030T020000
TZOFFSETFROM:+0100
TZOFFSETTO:+0200
TZNAME:Europe/Berlin CEST
END:DAYLIGHT
BEGIN:DAYLIGHT
DTSTART:20170326T030000
RDATE:20171029T020000
TZOFFSETFROM:+0100
TZOFFSETTO:+0200
TZNAME:Europe/Berlin CEST
END:DAYLIGHT
BEGIN:DAYLIGHT
DTSTART:20180325T030000
RDATE:20181028T020000
TZOFFSETFROM:+0100
TZOFFSETTO:+0200
TZNAME:Europe/Berlin CEST
END:DAYLIGHT
BEGIN:DAYLIGHT
DTSTART:20190331T030000
RDATE:20191027T020000
TZOFFSETFROM:+0100
TZOFFSETTO:+0200
TZNAME:Europe/Berlin CEST
END:DAYLIGHT
BEGIN:DAYLIGHT
DTSTART:20200329T030000
RDATE:20201025T020000
TZOFFSETFROM:+0100
TZOFFSETTO:+0200
TZNAME:Europe/Berlin CEST
END:DAYLIGHT
END:VTIMEZONE
BEGIN:VEVENT
UID:2ddb42a578f5aa03c9e43320418433b4
CATEGORIES:Politik
CREATED:20160227T172850
SUMMARY:Großdemo Widerstand TTIP
LOCATION:Hannover
DESCRIPTION:Aufruf zur SpendeEnde April kommt US-Präsident Obama nach Hannover, um mit 
 Kanzlerin Merkel gegen alle Widerstände TTIP durchzudrücken – und eine groß
 e Werbeshow dafür abzuziehen. Doch das lassen wir nicht zu: Mit Zehntausend
 en wollen wir am 23. April auf die Straße gehen und so die Bilder des Tages
  prägen.\n
X-ALT-DESC;FMTTYPE=text/html:<h3>Aufruf zur Spende</h3><p><strong>Ende April kommt US-Präsident Obama na
 ch Hannover, um mit Kanzlerin Merkel gegen alle Widerstände TTIP durchzudrü
 cken &ndash; und eine große Werbeshow dafür abzuziehen. Doch das lassen wir
  nicht zu: Mit Zehntausenden wollen wir am 23. April auf die Straße gehen u
 nd so die Bilder des Tages prägen.</strong></p>
DTSTAMP:20260421T094044
DTSTART;TZID=Europe/Berlin;VALUE=DATE:20160423
DTEND;TZID=Europe/Berlin;VALUE=DATE:20160424
SEQUENCE:0
TRANSP:OPAQUE
END:VEVENT
END:VCALENDAR