BEGIN:VCALENDAR
VERSION:2.0
PRODID:-//jEvents 2.0 for Joomla//EN
CALSCALE:GREGORIAN
METHOD:PUBLISH
BEGIN:VTIMEZONE
TZID:Europe/Berlin
BEGIN:STANDARD
DTSTART:20151025T020000
RDATE:20160327T030000
TZOFFSETFROM:+0200
TZOFFSETTO:+0100
TZNAME:Europe/Berlin CET
END:STANDARD
BEGIN:STANDARD
DTSTART:20161030T020000
RDATE:20170326T030000
TZOFFSETFROM:+0200
TZOFFSETTO:+0100
TZNAME:Europe/Berlin CET
END:STANDARD
BEGIN:STANDARD
DTSTART:20171029T020000
RDATE:20180325T030000
TZOFFSETFROM:+0200
TZOFFSETTO:+0100
TZNAME:Europe/Berlin CET
END:STANDARD
BEGIN:STANDARD
DTSTART:20181028T020000
RDATE:20190331T030000
TZOFFSETFROM:+0200
TZOFFSETTO:+0100
TZNAME:Europe/Berlin CET
END:STANDARD
BEGIN:STANDARD
DTSTART:20191027T020000
RDATE:20200329T030000
TZOFFSETFROM:+0200
TZOFFSETTO:+0100
TZNAME:Europe/Berlin CET
END:STANDARD
BEGIN:STANDARD
DTSTART:20201025T020000
RDATE:20210328T030000
TZOFFSETFROM:+0200
TZOFFSETTO:+0100
TZNAME:Europe/Berlin CET
END:STANDARD
BEGIN:DAYLIGHT
DTSTART:20150610T201500
RDATE:20151025T020000
TZOFFSETFROM:+0100
TZOFFSETTO:+0200
TZNAME:Europe/Berlin CEST
END:DAYLIGHT
BEGIN:DAYLIGHT
DTSTART:20160327T030000
RDATE:20161030T020000
TZOFFSETFROM:+0100
TZOFFSETTO:+0200
TZNAME:Europe/Berlin CEST
END:DAYLIGHT
BEGIN:DAYLIGHT
DTSTART:20170326T030000
RDATE:20171029T020000
TZOFFSETFROM:+0100
TZOFFSETTO:+0200
TZNAME:Europe/Berlin CEST
END:DAYLIGHT
BEGIN:DAYLIGHT
DTSTART:20180325T030000
RDATE:20181028T020000
TZOFFSETFROM:+0100
TZOFFSETTO:+0200
TZNAME:Europe/Berlin CEST
END:DAYLIGHT
BEGIN:DAYLIGHT
DTSTART:20190331T030000
RDATE:20191027T020000
TZOFFSETFROM:+0100
TZOFFSETTO:+0200
TZNAME:Europe/Berlin CEST
END:DAYLIGHT
BEGIN:DAYLIGHT
DTSTART:20200329T030000
RDATE:20201025T020000
TZOFFSETFROM:+0100
TZOFFSETTO:+0200
TZNAME:Europe/Berlin CEST
END:DAYLIGHT
END:VTIMEZONE
BEGIN:VEVENT
UID:8d97243fc8ac9cf5a971cca17c886013
CATEGORIES:Rundfunk&Fernsehen
CREATED:20160531T142905
SUMMARY:Harte Arbeit, wenig Rente – Droht uns die Altersarmut?
LOCATION:WDR Fernsehen
DESCRIPTION:Zuschauer Talk mit Zuschauer-Talk mit Bettina Böttinger (http://www1.wdr.de
 /fernsehen/ihre-meinung/sendungen/ihre-meinung-altersarmut-100.html)\nDie A
 ngst vor Altersarmut ist groß in Deutschland. 65 Prozent der Bundesbürger b
 efürchten, dass das Geld im Alter nicht reicht - so das Ergebnis einer aktu
 ellen repräsentativen Umfrage im Auftrag des WDR. Nur 28 Prozent fühlen sic
 h derzeit ausreichend abgesichert für ihr Rentenalter. Anlass für Bettina B
 öttinger, in ihrer neuen Sendung "Ihre Meinung" mit 100 Zuschauerinnen und 
 Zuschauern live über drohende Altersarmut zu diskutieren.\nDiskutieren Sie 
 mit Bettina BöttingerSie wollen mitdiskutieren? (http://www1.wdr.de/fernseh
 en/ihre-meinung/kontakt/index.html)Welche Forderungen haben sie an die Poli
 tik, was muss sich ändern? Schreiben Sie Ihre Meinung in das Formular und t
 ragen Sie ein, wie wir Sie erreichen können. Wir melden uns bei Ihnen!\n \n
X-ALT-DESC;FMTTYPE=text/html:<p><a target="_blank" href="http://www1.wdr.de/fernsehen/ihre-meinung/sendu
 ngen/ihre-meinung-altersarmut-100.html">Zuschauer Talk mit Zuschauer-<span 
 lang="en">Talk</span> mit Bettina Böttinger</a></p><p>Die Angst vor Altersa
 rmut ist groß in Deutschland. 65 Prozent der Bundesbürger befürchten, dass 
 das Geld im Alter nicht reicht - so das Ergebnis einer aktuellen repräsenta
 tiven Umfrage im Auftrag des WDR. Nur 28 Prozent fühlen sich derzeit ausrei
 chend abgesichert für ihr Rentenalter. Anlass für Bettina Böttinger, in ihr
 er neuen Sendung "Ihre Meinung" mit 100 Zuschauerinnen und Zuschauern live 
 über drohende Altersarmut zu diskutieren.</p><h3 class="headline small">Dis
 kutieren Sie mit Bettina Böttinger</h3><h3 class="headline small"><a target
 ="_blank" href="http://www1.wdr.de/fernsehen/ihre-meinung/kontakt/index.htm
 l">Sie wollen mitdiskutieren?</a></h3><p>Welche Forderungen haben sie an di
 e Politik, was muss sich ändern? Schreiben Sie Ihre Meinung in das Formular
  und tragen Sie ein, wie wir Sie erreichen können. Wir melden uns bei Ihnen
 !</p><p> </p>
CONTACT:http://www1.wdr.de/fernsehen/ihre-meinung/sendungen/ihre-meinung-altersarmut-100.html
DTSTAMP:20260421T103236
DTSTART;TZID=Europe/Berlin:20160610T201500
DTEND;TZID=Europe/Berlin:20160610T214500
SEQUENCE:0
TRANSP:OPAQUE
END:VEVENT
END:VCALENDAR