BEGIN:VCALENDAR
VERSION:2.0
PRODID:-//jEvents 2.0 for Joomla//EN
CALSCALE:GREGORIAN
METHOD:PUBLISH
BEGIN:VTIMEZONE
TZID:Europe/Berlin
BEGIN:STANDARD
DTSTART:20151025T020000
RDATE:20160327T030000
TZOFFSETFROM:+0200
TZOFFSETTO:+0100
TZNAME:Europe/Berlin CET
END:STANDARD
BEGIN:STANDARD
DTSTART:20161030T020000
RDATE:20170326T030000
TZOFFSETFROM:+0200
TZOFFSETTO:+0100
TZNAME:Europe/Berlin CET
END:STANDARD
BEGIN:STANDARD
DTSTART:20171029T020000
RDATE:20180325T030000
TZOFFSETFROM:+0200
TZOFFSETTO:+0100
TZNAME:Europe/Berlin CET
END:STANDARD
BEGIN:STANDARD
DTSTART:20181028T020000
RDATE:20190331T030000
TZOFFSETFROM:+0200
TZOFFSETTO:+0100
TZNAME:Europe/Berlin CET
END:STANDARD
BEGIN:STANDARD
DTSTART:20191027T020000
RDATE:20200329T030000
TZOFFSETFROM:+0200
TZOFFSETTO:+0100
TZNAME:Europe/Berlin CET
END:STANDARD
BEGIN:STANDARD
DTSTART:20201025T020000
RDATE:20210328T030000
TZOFFSETFROM:+0200
TZOFFSETTO:+0100
TZNAME:Europe/Berlin CET
END:STANDARD
BEGIN:DAYLIGHT
DTSTART:20150617T080000
RDATE:20151025T020000
TZOFFSETFROM:+0100
TZOFFSETTO:+0200
TZNAME:Europe/Berlin CEST
END:DAYLIGHT
BEGIN:DAYLIGHT
DTSTART:20160327T030000
RDATE:20161030T020000
TZOFFSETFROM:+0100
TZOFFSETTO:+0200
TZNAME:Europe/Berlin CEST
END:DAYLIGHT
BEGIN:DAYLIGHT
DTSTART:20170326T030000
RDATE:20171029T020000
TZOFFSETFROM:+0100
TZOFFSETTO:+0200
TZNAME:Europe/Berlin CEST
END:DAYLIGHT
BEGIN:DAYLIGHT
DTSTART:20180325T030000
RDATE:20181028T020000
TZOFFSETFROM:+0100
TZOFFSETTO:+0200
TZNAME:Europe/Berlin CEST
END:DAYLIGHT
BEGIN:DAYLIGHT
DTSTART:20190331T030000
RDATE:20191027T020000
TZOFFSETFROM:+0100
TZOFFSETTO:+0200
TZNAME:Europe/Berlin CEST
END:DAYLIGHT
BEGIN:DAYLIGHT
DTSTART:20200329T030000
RDATE:20201025T020000
TZOFFSETFROM:+0100
TZOFFSETTO:+0200
TZNAME:Europe/Berlin CEST
END:DAYLIGHT
END:VTIMEZONE
BEGIN:VEVENT
UID:1299d2460627ce37e31493c986289e1f
CATEGORIES:Rundfunk&Fernsehen
CREATED:20160601T153538
SUMMARY:Durchgecheckt: Hat die Rente eine Zukunft?
DESCRIPTION:Eine Sendung bei arte\nWiederholung der Sendung vom 31. Mai \nIst die Rente
  wirklich sicher? Daran zweifeln immer mehr deutsche Bundesbürger. Die demo
 grafische Entwicklung treibt die Staatsausgaben in die Höhe, während gleich
 zeitig immer weniger Beitragszahler in den Arbeitsmarkt einsteigen. Auch La
 ngzeitarbeitslosigkeit und unsichere Arbeitsverhältnisse belasten die Rente
 nkassen. Ist das gesetzliche Rentensystem gescheitert?\nOder in Mediathek (
 http://www.arte.tv/guide/de/058833-000-A/durchgecheckt-hat-die-rente-eine-z
 ukunft/?vid=058833-000-A_SHOW_ARTEPLUS7_DE_de#details-description)\n
X-ALT-DESC;FMTTYPE=text/html:<p>Eine Sendung bei arte</p><p><strong>Wiederholung der Sendung vom 31. Mai
  </strong></p><p>Ist die Rente wirklich sicher? Daran zweifeln immer mehr d
 eutsche Bundesbürger. Die demografische Entwicklung treibt die Staatsausgab
 en in die Höhe, während gleichzeitig immer weniger Beitragszahler in den Ar
 beitsmarkt einsteigen. Auch Langzeitarbeitslosigkeit und unsichere Arbeitsv
 erhältnisse belasten die Rentenkassen. Ist das gesetzliche Rentensystem ges
 cheitert?</p><p>Oder in <a target="_blank" href="http://www.arte.tv/guide/d
 e/058833-000-A/durchgecheckt-hat-die-rente-eine-zukunft/?vid=058833-000-A_S
 HOW_ARTEPLUS7_DE_de#details-description">Mediathek</a></p>
DTSTAMP:20260421T103257
DTSTART;TZID=Europe/Berlin:20160617T080000
DTEND;TZID=Europe/Berlin:20160617T090500
SEQUENCE:0
TRANSP:OPAQUE
END:VEVENT
END:VCALENDAR