BEGIN:VCALENDAR
VERSION:2.0
PRODID:-//jEvents 2.0 for Joomla//EN
CALSCALE:GREGORIAN
METHOD:PUBLISH
BEGIN:VTIMEZONE
TZID:Europe/Berlin
BEGIN:STANDARD
DTSTART:20151108T180000
RDATE:20160327T030000
TZOFFSETFROM:+0200
TZOFFSETTO:+0100
TZNAME:Europe/Berlin CET
END:STANDARD
BEGIN:STANDARD
DTSTART:20161030T020000
RDATE:20170326T030000
TZOFFSETFROM:+0200
TZOFFSETTO:+0100
TZNAME:Europe/Berlin CET
END:STANDARD
BEGIN:STANDARD
DTSTART:20171029T020000
RDATE:20180325T030000
TZOFFSETFROM:+0200
TZOFFSETTO:+0100
TZNAME:Europe/Berlin CET
END:STANDARD
BEGIN:STANDARD
DTSTART:20181028T020000
RDATE:20190331T030000
TZOFFSETFROM:+0200
TZOFFSETTO:+0100
TZNAME:Europe/Berlin CET
END:STANDARD
BEGIN:STANDARD
DTSTART:20191027T020000
RDATE:20200329T030000
TZOFFSETFROM:+0200
TZOFFSETTO:+0100
TZNAME:Europe/Berlin CET
END:STANDARD
BEGIN:STANDARD
DTSTART:20201025T020000
RDATE:20210328T030000
TZOFFSETFROM:+0200
TZOFFSETTO:+0100
TZNAME:Europe/Berlin CET
END:STANDARD
BEGIN:DAYLIGHT
DTSTART:20160327T030000
RDATE:20161030T020000
TZOFFSETFROM:+0100
TZOFFSETTO:+0200
TZNAME:Europe/Berlin CEST
END:DAYLIGHT
BEGIN:DAYLIGHT
DTSTART:20170326T030000
RDATE:20171029T020000
TZOFFSETFROM:+0100
TZOFFSETTO:+0200
TZNAME:Europe/Berlin CEST
END:DAYLIGHT
BEGIN:DAYLIGHT
DTSTART:20180325T030000
RDATE:20181028T020000
TZOFFSETFROM:+0100
TZOFFSETTO:+0200
TZNAME:Europe/Berlin CEST
END:DAYLIGHT
BEGIN:DAYLIGHT
DTSTART:20190331T030000
RDATE:20191027T020000
TZOFFSETFROM:+0100
TZOFFSETTO:+0200
TZNAME:Europe/Berlin CEST
END:DAYLIGHT
BEGIN:DAYLIGHT
DTSTART:20200329T030000
RDATE:20201025T020000
TZOFFSETFROM:+0100
TZOFFSETTO:+0200
TZNAME:Europe/Berlin CEST
END:DAYLIGHT
END:VTIMEZONE
BEGIN:VEVENT
UID:9d13622c1c3fb293b7a41895e741b7c4
CATEGORIES:Rente
CREATED:20161005T160504
SUMMARY:Älter werden in Europa - Rentensysteme und Altersarmut im europäischen Vergleich
LOCATION:Schwanthalerstr. 91\, München
DESCRIPTION:Über Jahre wurde in Deutschland das Thema Rente unter dem Aspekt der Finanz
 ierbarkeit und der Demographie diskutiert und die Politik beschloss Maßnahm
 en zur Kostendämpfung. Inzwischen ist offensichtlich, dass die Beibehaltung
  dieser Politik für viele Rentner Armut im Alter bedeuten wird und die Rent
 e im Vergleich zu anderen OECD-Ländern relativ niedrig ist. Die Gewerkschaf
 ten starten im Herbst eine Kampagne, die Absenkung des Rentenniveaus zumind
 est zu stoppen. Afa und KAB fordern eine Bürgerversicherung, in die alle ei
 nzahlen. Ein Blick über die Grenze zeigt, welche anderen Systeme der Alters
 sicherung möglich sind und welchen Lebensstandard sie garantieren.\nReferen
 tin: Dipl.Jur, Dipl. Pol. Birgit Schmitz-Lenders, Leiterin der Europäischen
  Akademie Bayern\n
X-ALT-DESC;FMTTYPE=text/html:<p class="text">Über Jahre wurde in Deutschland das Thema Rente unter dem A
 spekt der Finanzierbarkeit und der Demographie diskutiert und die Politik b
 eschloss Maßnahmen zur Kostendämpfung. Inzwischen ist offensichtlich, dass 
 die Beibehaltung dieser Politik für viele Rentner Armut im Alter bedeuten w
 ird und die Rente im Vergleich zu anderen OECD-Ländern relativ niedrig ist.
  Die Gewerkschaften starten im Herbst eine Kampagne, die Absenkung des Rent
 enniveaus zumindest zu stoppen. Afa und KAB fordern eine Bürgerversicherung
 , in die alle einzahlen. Ein Blick über die Grenze zeigt, welche anderen Sy
 steme der Alterssicherung möglich sind und welchen Lebensstandard sie garan
 tieren.</p><p class="text">Referentin: <strong>Dipl.Jur, Dipl. Pol. Birgit 
 Schmitz-Lenders, Leiterin der Europäischen Akademie Bayern</strong></p>
CONTACT:http://afa-muenchen.de/meg_abende.html (http://afa-muenchen.de/meg_abende.html)#aa2
DTSTAMP:20260421T080102
DTSTART;TZID=Europe/Berlin:20161108T180000
DTEND;TZID=Europe/Berlin:20161108T200000
SEQUENCE:0
TRANSP:OPAQUE
END:VEVENT
END:VCALENDAR