BEGIN:VCALENDAR
VERSION:2.0
PRODID:-//jEvents 2.0 for Joomla//EN
CALSCALE:GREGORIAN
METHOD:PUBLISH
BEGIN:VTIMEZONE
TZID:Europe/Berlin
BEGIN:STANDARD
DTSTART:20161030T020000
RDATE:20170326T030000
TZOFFSETFROM:+0200
TZOFFSETTO:+0100
TZNAME:Europe/Berlin CET
END:STANDARD
BEGIN:STANDARD
DTSTART:20171029T020000
RDATE:20180325T030000
TZOFFSETFROM:+0200
TZOFFSETTO:+0100
TZNAME:Europe/Berlin CET
END:STANDARD
BEGIN:STANDARD
DTSTART:20181028T020000
RDATE:20190331T030000
TZOFFSETFROM:+0200
TZOFFSETTO:+0100
TZNAME:Europe/Berlin CET
END:STANDARD
BEGIN:STANDARD
DTSTART:20191027T020000
RDATE:20200329T030000
TZOFFSETFROM:+0200
TZOFFSETTO:+0100
TZNAME:Europe/Berlin CET
END:STANDARD
BEGIN:STANDARD
DTSTART:20201025T020000
RDATE:20210328T030000
TZOFFSETFROM:+0200
TZOFFSETTO:+0100
TZNAME:Europe/Berlin CET
END:STANDARD
BEGIN:DAYLIGHT
DTSTART:20160328T190000
RDATE:20161030T020000
TZOFFSETFROM:+0100
TZOFFSETTO:+0200
TZNAME:Europe/Berlin CEST
END:DAYLIGHT
BEGIN:DAYLIGHT
DTSTART:20170326T030000
RDATE:20171029T020000
TZOFFSETFROM:+0100
TZOFFSETTO:+0200
TZNAME:Europe/Berlin CEST
END:DAYLIGHT
BEGIN:DAYLIGHT
DTSTART:20180325T030000
RDATE:20181028T020000
TZOFFSETFROM:+0100
TZOFFSETTO:+0200
TZNAME:Europe/Berlin CEST
END:DAYLIGHT
BEGIN:DAYLIGHT
DTSTART:20190331T030000
RDATE:20191027T020000
TZOFFSETFROM:+0100
TZOFFSETTO:+0200
TZNAME:Europe/Berlin CEST
END:DAYLIGHT
BEGIN:DAYLIGHT
DTSTART:20200329T030000
RDATE:20201025T020000
TZOFFSETFROM:+0100
TZOFFSETTO:+0200
TZNAME:Europe/Berlin CEST
END:DAYLIGHT
END:VTIMEZONE
BEGIN:VEVENT
UID:286e00b929a542920a67f1bbb44a5a19
CATEGORIES:Politik
CREATED:20170302T091819
SUMMARY:Informationen zum Dienstleistungsabkommen TiSA
LOCATION:DGB-Haus\, Großer Saal\, Schwanthalerstr. 64\, München
DESCRIPTION:das Bündnis Stop TTIP München, dem auch Mehr Demokratie Bayern angehört, lä
 dt ein zum Vortrag von Dr. Martin Beckmann zum Dienstleistungsabkommen TiSA
 .\n Mit TiSA (Trade in Services Agreement) sollen private Unternehmen den Z
 ugang zu Dienstleistungsmärkten anderer Länder bekommen. \nAus dem Inhalt:\
 n\n - Wen betrifft TiSA? \n - Wie werden die TiSA-Verhandlungen geführt? \n
  - Welche Auswirkungen wird TiSA voraussichtlich haben?\n - Wer sind Gewinn
 er und VerliererDr. Martin Beckmann ist Referent für Dienstleistungspolitik
 , Regional- und Strukturpolitik im Bereich Politik und Planung der Ver.di-B
 undesverwaltung in Berlin. Schwerpunkte seiner Arbeit sind neben der Dienst
 leistungspolitik die Themen Digitalisierung und Handelspolitik\n \n
X-ALT-DESC;FMTTYPE=text/html:<p>das Bündnis Stop TTIP München, dem auch Mehr Demokratie Bayern angehört,
  lädt ein zum Vortrag von Dr. Martin Beckmann zum Dienstleistungsabkommen T
 iSA.</p><p> <span class="4n-j">Mit TiSA (Trade in Services Agreement) solle
 n private Unternehmen den Zugang zu Dienstleistungsmärkten anderer Länder b
 ekommen. </span><br /><span class="4n-j">Aus dem Inhalt:</span></p><ul><li>
 <span class="4n-j">Wen betrifft TiSA? </span></li><li><span class="4n-j">Wi
 e werden die TiSA-Verhandlungen geführt? </span></li><li><span class="4n-j"
 >Welche Auswirkungen wird TiSA voraussichtlich haben?</span></li><li><span 
 class="4n-j">Wer sind Gewinner und Verlierer</span></li></ul><p><span class
 ="4n-j">Dr. Martin Beckmann ist Referent für Dienstleistungspolitik, Region
 al- und Strukturpolitik im Bereich Politik und Planung der Ver.di-Bundesver
 waltung in Berlin. Schwerpunkte seiner Arbeit sind neben der Dienstleistung
 spolitik die Themen Digitalisierung und Handelspolitik</span></p><p> </p>
CONTACT:https://www.facebook.com/StopTTIPMuenchen/
DTSTAMP:20260421T080104
DTSTART;TZID=Europe/Berlin:20170329T190000
DTEND;TZID=Europe/Berlin:20170329T220000
SEQUENCE:0
TRANSP:OPAQUE
END:VEVENT
END:VCALENDAR