BEGIN:VCALENDAR
VERSION:2.0
PRODID:-//jEvents 2.0 for Joomla//EN
CALSCALE:GREGORIAN
METHOD:PUBLISH
BEGIN:VTIMEZONE
TZID:Europe/Berlin
BEGIN:STANDARD
DTSTART:20140318T123000
RDATE:20140330T030000
TZOFFSETFROM:+0200
TZOFFSETTO:+0100
TZNAME:Europe/Berlin CET
END:STANDARD
BEGIN:STANDARD
DTSTART:20141026T020000
RDATE:20150329T030000
TZOFFSETFROM:+0200
TZOFFSETTO:+0100
TZNAME:Europe/Berlin CET
END:STANDARD
BEGIN:STANDARD
DTSTART:20151025T020000
RDATE:20160327T030000
TZOFFSETFROM:+0200
TZOFFSETTO:+0100
TZNAME:Europe/Berlin CET
END:STANDARD
BEGIN:STANDARD
DTSTART:20161030T020000
RDATE:20170326T030000
TZOFFSETFROM:+0200
TZOFFSETTO:+0100
TZNAME:Europe/Berlin CET
END:STANDARD
BEGIN:STANDARD
DTSTART:20171029T020000
RDATE:20180325T030000
TZOFFSETFROM:+0200
TZOFFSETTO:+0100
TZNAME:Europe/Berlin CET
END:STANDARD
BEGIN:STANDARD
DTSTART:20181028T020000
RDATE:20190331T030000
TZOFFSETFROM:+0200
TZOFFSETTO:+0100
TZNAME:Europe/Berlin CET
END:STANDARD
BEGIN:STANDARD
DTSTART:20191027T020000
RDATE:20200329T030000
TZOFFSETFROM:+0200
TZOFFSETTO:+0100
TZNAME:Europe/Berlin CET
END:STANDARD
BEGIN:STANDARD
DTSTART:20201025T020000
RDATE:20210328T030000
TZOFFSETFROM:+0200
TZOFFSETTO:+0100
TZNAME:Europe/Berlin CET
END:STANDARD
BEGIN:DAYLIGHT
DTSTART:20140330T030000
RDATE:20141026T020000
TZOFFSETFROM:+0100
TZOFFSETTO:+0200
TZNAME:Europe/Berlin CEST
END:DAYLIGHT
BEGIN:DAYLIGHT
DTSTART:20150329T030000
RDATE:20151025T020000
TZOFFSETFROM:+0100
TZOFFSETTO:+0200
TZNAME:Europe/Berlin CEST
END:DAYLIGHT
BEGIN:DAYLIGHT
DTSTART:20160327T030000
RDATE:20161030T020000
TZOFFSETFROM:+0100
TZOFFSETTO:+0200
TZNAME:Europe/Berlin CEST
END:DAYLIGHT
BEGIN:DAYLIGHT
DTSTART:20170326T030000
RDATE:20171029T020000
TZOFFSETFROM:+0100
TZOFFSETTO:+0200
TZNAME:Europe/Berlin CEST
END:DAYLIGHT
BEGIN:DAYLIGHT
DTSTART:20180325T030000
RDATE:20181028T020000
TZOFFSETFROM:+0100
TZOFFSETTO:+0200
TZNAME:Europe/Berlin CEST
END:DAYLIGHT
BEGIN:DAYLIGHT
DTSTART:20190331T030000
RDATE:20191027T020000
TZOFFSETFROM:+0100
TZOFFSETTO:+0200
TZNAME:Europe/Berlin CEST
END:DAYLIGHT
BEGIN:DAYLIGHT
DTSTART:20200329T030000
RDATE:20201025T020000
TZOFFSETFROM:+0100
TZOFFSETTO:+0200
TZNAME:Europe/Berlin CEST
END:DAYLIGHT
END:VTIMEZONE
BEGIN:VEVENT
UID:8a707a17982f66c1a3ad493386d99a56
CATEGORIES:Politik
CREATED:20150316T174341
SUMMARY:DEMO „gegen Vertragsbruch und politische Willkür!"
LOCATION:Vor dem Deutschen Bundestag in Berlin
DESCRIPTION:Die Interessengemeinschaft GMG-geschädigte-Direktversicherte ruft zu einer 
 Demonstration vor dem Reichstag in Berlin auf. Unter dem Motto „gegen Vertr
 agsbruch und politische Willkür!“ bringen die Mitglieder der Interessengeme
 inschaft ihren Protest gegen die Beitragspflicht zur Kranken- und Pflegever
 sicherung von Versicherungsleistungen aus eigenfinanzierter Altersvorsorge 
 zum Ausdruck.\nGeplant war auch eine begleitende Diskussionsrunde mit Polit
 ikern von SPD, Grünen und CDU/CSU. Doch den Veranstaltern hagelten nur Absa
 gen ins Haus.\n
X-ALT-DESC;FMTTYPE=text/html:<p>Die Interessengemeinschaft GMG-geschädigte-Direktversicherte ruft zu ein
 er Demonstration vor dem Reichstag in Berlin auf. Unter dem <strong>Motto &
 bdquo;gegen Vertragsbruch und politische Willkür!&ldquo;</strong> bringen d
 ie Mitglieder der Interessengemeinschaft ihren Protest gegen die Beitragspf
 licht zur Kranken- und Pflegeversicherung von Versicherungsleistungen aus e
 igenfinanzierter Altersvorsorge zum Ausdruck.</p><p>Geplant war auch eine b
 egleitende Diskussionsrunde mit Politikern von SPD, Grünen und CDU/CSU. Doc
 h den Veranstaltern hagelten nur Absagen ins Haus.</p>
DTSTAMP:20260421T075956
DTSTART;TZID=Europe/Berlin:20150319T123000
SEQUENCE:0
TRANSP:OPAQUE
END:VEVENT
END:VCALENDAR