BEGIN:VCALENDAR
VERSION:2.0
PRODID:-//jEvents 2.0 for Joomla//EN
CALSCALE:GREGORIAN
METHOD:PUBLISH
BEGIN:VTIMEZONE
TZID:Europe/Berlin
BEGIN:STANDARD
DTSTART:20141026T020000
RDATE:20150329T030000
TZOFFSETFROM:+0200
TZOFFSETTO:+0100
TZNAME:Europe/Berlin CET
END:STANDARD
BEGIN:STANDARD
DTSTART:20151025T020000
RDATE:20160327T030000
TZOFFSETFROM:+0200
TZOFFSETTO:+0100
TZNAME:Europe/Berlin CET
END:STANDARD
BEGIN:STANDARD
DTSTART:20161030T020000
RDATE:20170326T030000
TZOFFSETFROM:+0200
TZOFFSETTO:+0100
TZNAME:Europe/Berlin CET
END:STANDARD
BEGIN:STANDARD
DTSTART:20171029T020000
RDATE:20180325T030000
TZOFFSETFROM:+0200
TZOFFSETTO:+0100
TZNAME:Europe/Berlin CET
END:STANDARD
BEGIN:STANDARD
DTSTART:20181028T020000
RDATE:20190331T030000
TZOFFSETFROM:+0200
TZOFFSETTO:+0100
TZNAME:Europe/Berlin CET
END:STANDARD
BEGIN:STANDARD
DTSTART:20191027T020000
RDATE:20200329T030000
TZOFFSETFROM:+0200
TZOFFSETTO:+0100
TZNAME:Europe/Berlin CET
END:STANDARD
BEGIN:STANDARD
DTSTART:20201025T020000
RDATE:20210328T030000
TZOFFSETFROM:+0200
TZOFFSETTO:+0100
TZNAME:Europe/Berlin CET
END:STANDARD
BEGIN:DAYLIGHT
DTSTART:20140421T180000
RDATE:20141026T020000
TZOFFSETFROM:+0100
TZOFFSETTO:+0200
TZNAME:Europe/Berlin CEST
END:DAYLIGHT
BEGIN:DAYLIGHT
DTSTART:20150329T030000
RDATE:20151025T020000
TZOFFSETFROM:+0100
TZOFFSETTO:+0200
TZNAME:Europe/Berlin CEST
END:DAYLIGHT
BEGIN:DAYLIGHT
DTSTART:20160327T030000
RDATE:20161030T020000
TZOFFSETFROM:+0100
TZOFFSETTO:+0200
TZNAME:Europe/Berlin CEST
END:DAYLIGHT
BEGIN:DAYLIGHT
DTSTART:20170326T030000
RDATE:20171029T020000
TZOFFSETFROM:+0100
TZOFFSETTO:+0200
TZNAME:Europe/Berlin CEST
END:DAYLIGHT
BEGIN:DAYLIGHT
DTSTART:20180325T030000
RDATE:20181028T020000
TZOFFSETFROM:+0100
TZOFFSETTO:+0200
TZNAME:Europe/Berlin CEST
END:DAYLIGHT
BEGIN:DAYLIGHT
DTSTART:20190331T030000
RDATE:20191027T020000
TZOFFSETFROM:+0100
TZOFFSETTO:+0200
TZNAME:Europe/Berlin CEST
END:DAYLIGHT
BEGIN:DAYLIGHT
DTSTART:20200329T030000
RDATE:20201025T020000
TZOFFSETFROM:+0100
TZOFFSETTO:+0200
TZNAME:Europe/Berlin CEST
END:DAYLIGHT
END:VTIMEZONE
BEGIN:VEVENT
UID:55d9420c60306d6ae149e62f3172326f
CATEGORIES:Politik
CREATED:20150331T151335
SUMMARY:Podiumsdiskussion: Russland nach dem Mord an Boris Nemzow
LOCATION: Alfons-Goppel-Str. 11\, 80539 München\, Plenarsaal\, 1. Stock
DESCRIPTION:Bayerische Akademie der Wissenschaften\nEs diskutieren: Prof. Dr. Martin Sc
 hulze Wessel, Dr. Markus Ehm, Dr. Uwe Halbach, Prof. Dr. Dirk Uffelmann\nMo
 deration: Dr. Margarete Klein\nEintritt frei, keine Anmeldung erforderlich\
 nIn den ersten offiziellen Reaktionen auf den Mord an dem liberalen russisc
 hen Politiker Boris Nemzow war von einer „Provokation" mit dem Ziel der „De
 stabilisierung Russlands" die Rede. Dass der Kreml selbst die Destabilisier
 ung des Landes als eine mögliche Folge des Attentats zur Sprache bringt, er
 staunt mit Blick auf die zahlenmäßige Schwäche der Opposition. Es stellt si
 ch die Frage nach den politischen und intellektuellen Triebkräften, die Rus
 sland heute bestimmen. Mit dem Krieg in der Ostukraine hat Russland nationa
 listischen Kräften ein Terrain geschaffen, in dem Radikalisierung und Gewal
 t kultiviert werden. Der Mord an Boris Nemzow drängt die Frage auf, in welc
 hem Maße eine Politik, die zur Destabilisierung der Ukraine gedacht war, si
 ch nun gegen Russland selbst wendet.\n„Russland verstehen" und „Putin verst
 ehen" werden in der deutschen Intellektuellen Debatte oft als äquivalente C
 hiffren benutzt. Die Podiumsdiskussion soll dazu beitragen, differenzierter
  zu analysieren und danach zu fragen, welche nicht-vorhergesehenen und nich
 t-intendierten Folgen die russische Politik mit ihren Kampagnen gegen inner
 e und äußere Feinde hat. Welche Kräfte mobilisieren in Russland zum Hass? U
 nd welche Perspektiven hat die liberale Opposition?\nMit der Reihe „aktuell
  &amp; kontrovers“ fördert die Bayerische Akademie der Wissenschaften den D
 ialog zwischen Wissenschaft und Öffentlichkeit. Moderierte, hochkarätig bes
 etzte Podiumsdiskussionen beleuchten aktuelle Themen und brisante Zukunftsf
 ragen. Diskutieren Sie mit! Die Veranstaltung findet statt in Kooperation m
 it der Hanns-Seidel-Stiftung.\n
X-ALT-DESC;FMTTYPE=text/html:<p><strong>Bayerische Akademie der Wissenschaften</strong></p><p>Es diskuti
 eren: Prof. Dr. Martin Schulze Wessel, Dr. Markus Ehm, Dr. Uwe Halbach, Pro
 f. Dr. Dirk Uffelmann</p><p>Moderation: Dr. Margarete Klein</p><p><strong>E
 intritt frei, keine Anmeldung erforderlich</strong></p><p>In den ersten off
 iziellen Reaktionen auf den Mord an dem liberalen russischen Politiker Bori
 s Nemzow war von einer &bdquo;Provokation" mit dem Ziel der &bdquo;Destabil
 isierung Russlands" die Rede. Dass der Kreml selbst die Destabilisierung de
 s Landes als eine mögliche Folge des Attentats zur Sprache bringt, erstaunt
  mit Blick auf die zahlenmäßige Schwäche der Opposition. Es stellt sich die
  Frage nach den politischen und intellektuellen Triebkräften, die Russland 
 heute bestimmen. Mit dem Krieg in der Ostukraine hat Russland nationalistis
 chen Kräften ein Terrain geschaffen, in dem Radikalisierung und Gewalt kult
 iviert werden. Der Mord an Boris Nemzow drängt die Frage auf, in welchem Ma
 ße eine Politik, die zur Destabilisierung der Ukraine gedacht war, sich nun
  gegen Russland selbst wendet.</p><p>&bdquo;Russland verstehen" und &bdquo;
 Putin verstehen" werden in der deutschen Intellektuellen Debatte oft als äq
 uivalente Chiffren benutzt. Die Podiumsdiskussion soll dazu beitragen, diff
 erenzierter zu analysieren und danach zu fragen, welche nicht-vorhergesehen
 en und nicht-intendierten Folgen die russische Politik mit ihren Kampagnen 
 gegen innere und äußere Feinde hat. Welche Kräfte mobilisieren in Russland 
 zum Hass? Und welche Perspektiven hat die liberale Opposition?</p><p>Mit de
 r Reihe &bdquo;aktuell & kontrovers&ldquo; fördert die Bayerische Akademie 
 der Wissenschaften den Dialog zwischen Wissenschaft und Öffentlichkeit. Mod
 erierte, hochkarätig besetzte Podiumsdiskussionen beleuchten aktuelle Theme
 n und brisante Zukunftsfragen. Diskutieren Sie mit! Die Veranstaltung finde
 t statt in Kooperation mit der Hanns-Seidel-Stiftung.</p>
CONTACT:http://www.badw.de (http://www.badw.de)
DTSTAMP:20260421T093225
DTSTART;TZID=Europe/Berlin:20150422T180000
SEQUENCE:0
TRANSP:OPAQUE
END:VEVENT
END:VCALENDAR