BEGIN:VCALENDAR
VERSION:2.0
PRODID:-//jEvents 2.0 for Joomla//EN
CALSCALE:GREGORIAN
METHOD:PUBLISH
BEGIN:VTIMEZONE
TZID:Europe/Berlin
BEGIN:STANDARD
DTSTART:20141026T020000
RDATE:20150329T030000
TZOFFSETFROM:+0200
TZOFFSETTO:+0100
TZNAME:Europe/Berlin CET
END:STANDARD
BEGIN:STANDARD
DTSTART:20151025T020000
RDATE:20160327T030000
TZOFFSETFROM:+0200
TZOFFSETTO:+0100
TZNAME:Europe/Berlin CET
END:STANDARD
BEGIN:STANDARD
DTSTART:20161030T020000
RDATE:20170326T030000
TZOFFSETFROM:+0200
TZOFFSETTO:+0100
TZNAME:Europe/Berlin CET
END:STANDARD
BEGIN:STANDARD
DTSTART:20171029T020000
RDATE:20180325T030000
TZOFFSETFROM:+0200
TZOFFSETTO:+0100
TZNAME:Europe/Berlin CET
END:STANDARD
BEGIN:STANDARD
DTSTART:20181028T020000
RDATE:20190331T030000
TZOFFSETFROM:+0200
TZOFFSETTO:+0100
TZNAME:Europe/Berlin CET
END:STANDARD
BEGIN:STANDARD
DTSTART:20191027T020000
RDATE:20200329T030000
TZOFFSETFROM:+0200
TZOFFSETTO:+0100
TZNAME:Europe/Berlin CET
END:STANDARD
BEGIN:STANDARD
DTSTART:20201025T020000
RDATE:20210328T030000
TZOFFSETFROM:+0200
TZOFFSETTO:+0100
TZNAME:Europe/Berlin CET
END:STANDARD
BEGIN:DAYLIGHT
DTSTART:20140407T221500
RDATE:20141026T020000
TZOFFSETFROM:+0100
TZOFFSETTO:+0200
TZNAME:Europe/Berlin CEST
END:DAYLIGHT
BEGIN:DAYLIGHT
DTSTART:20150329T030000
RDATE:20151025T020000
TZOFFSETFROM:+0100
TZOFFSETTO:+0200
TZNAME:Europe/Berlin CEST
END:DAYLIGHT
BEGIN:DAYLIGHT
DTSTART:20160327T030000
RDATE:20161030T020000
TZOFFSETFROM:+0100
TZOFFSETTO:+0200
TZNAME:Europe/Berlin CEST
END:DAYLIGHT
BEGIN:DAYLIGHT
DTSTART:20170326T030000
RDATE:20171029T020000
TZOFFSETFROM:+0100
TZOFFSETTO:+0200
TZNAME:Europe/Berlin CEST
END:DAYLIGHT
BEGIN:DAYLIGHT
DTSTART:20180325T030000
RDATE:20181028T020000
TZOFFSETFROM:+0100
TZOFFSETTO:+0200
TZNAME:Europe/Berlin CEST
END:DAYLIGHT
BEGIN:DAYLIGHT
DTSTART:20190331T030000
RDATE:20191027T020000
TZOFFSETFROM:+0100
TZOFFSETTO:+0200
TZNAME:Europe/Berlin CEST
END:DAYLIGHT
BEGIN:DAYLIGHT
DTSTART:20200329T030000
RDATE:20201025T020000
TZOFFSETFROM:+0100
TZOFFSETTO:+0200
TZNAME:Europe/Berlin CEST
END:DAYLIGHT
END:VTIMEZONE
BEGIN:VEVENT
UID:91324e58014e0dde8c96aff5200a6c2e
CATEGORIES:Rundfunk&Fernsehen
CREATED:20150402T223944
SUMMARY:Unternehmen drücken sich vor der Betriebsrentenanpassung
DESCRIPTION:Der Betriebsrentner e.V. erhielt vom Berliner Regionalsender rbb die Anfrag
 e für ein Interview zum Thema: \n"Tendenz vieler Unternehmen, sich vor der 
 Betriebsrentenanpassung zu drücken Eigentlich soll es ja zumindest alle dre
 i Jahre einen Inflationsausgleich geben, aber Offenbar ist es wohl so, dass
  viele Arbeitgeber nur dann zahlen, wenn die Betroffenen die Erhöhung aktiv
  und mit Nachdruck einfordern."\nDer den BRV unterstützende Rechtsanwalt Dr
 . jur. Horst Metz hat sich auf unseren Vorschlag hin bereit erklärt, dieses
  Interview zu führen.\nSeine Kanzlei für betriebliche Altersversorgung ist 
 eine der wenigen hochspezialisierten Kanzleien, die ausschließlich die komp
 lexen Rechtsfragen der betrieblichen Altersvorsorge (bAV) bearbeitet.\nGese
 ndet wird der Beitrag im rbb-Wirtschaftmagazin WAS.Die bundesweite Ausstrah
 lung erfolgt im ARD Digitasender - Tagesschau 24 - am 09.04.2015 um 21:45 U
 hr. Der Beitrag ist ab dem 09.04.2015 auch auf der Internetseite rbb-online
 .de/was (http://rbb-online.de/was) zu sehen.\n
X-ALT-DESC;FMTTYPE=text/html:<p>Der Betriebsrentner e.V. erhielt vom Berliner Regionalsender rbb die Anf
 rage für ein Interview zum Thema: </p><div>"Tendenz vieler Unternehmen, sic
 h vor der Betriebsrentenanpassung zu drücken Eigentlich soll es ja zumindes
 t alle drei Jahre einen Inflationsausgleich geben, aber Offenbar ist es woh
 l so, dass viele Arbeitgeber nur dann zahlen, wenn die Betroffenen die Erhö
 hung aktiv und mit Nachdruck einfordern."<br />Der den BRV unterstützende R
 echtsanwalt Dr. jur. Horst Metz hat sich auf unseren Vorschlag hin bereit e
 rklärt, dieses Interview zu führen.<br />Seine Kanzlei für betriebliche Alt
 ersversorgung ist eine der wenigen hochspezialisierten Kanzleien, die aussc
 hließlich die komplexen Rechtsfragen der betrieblichen Altersvorsorge (bAV)
  bearbeitet.<br />Gesendet wird der Beitrag im rbb-Wirtschaftmagazin WAS.</
 div><div>Die bundesweite Ausstrahlung erfolgt im ARD Digitasender - Tagessc
 hau 24 - am 09.04.2015 um 21:45 Uhr.</div><div> </div><p>Der Beitrag ist ab
  dem 09.04.2015 auch auf der Internetseite <a href="http://rbb-online.de/wa
 s">rbb-online.de/was</a> zu sehen.</p>
CONTACT:http://www.rbb-online.de/was/index.htm/doc= (http://www.rbb-online.de/was/index.htm/doc=)!content!rbb!rbb!fernsehen!programm!08_04_2015!14259018217.html
DTSTAMP:20260421T093226
DTSTART;TZID=Europe/Berlin:20150408T221500
SEQUENCE:0
TRANSP:OPAQUE
END:VEVENT
END:VCALENDAR