BEGIN:VCALENDAR
VERSION:2.0
PRODID:-//jEvents 2.0 for Joomla//EN
CALSCALE:GREGORIAN
METHOD:PUBLISH
BEGIN:VTIMEZONE
TZID:Europe/Berlin
BEGIN:STANDARD
DTSTART:20161030T020000
RDATE:20170326T030000
TZOFFSETFROM:+0200
TZOFFSETTO:+0100
TZNAME:Europe/Berlin CET
END:STANDARD
BEGIN:STANDARD
DTSTART:20171029T020000
RDATE:20180325T030000
TZOFFSETFROM:+0200
TZOFFSETTO:+0100
TZNAME:Europe/Berlin CET
END:STANDARD
BEGIN:STANDARD
DTSTART:20181028T020000
RDATE:20190331T030000
TZOFFSETFROM:+0200
TZOFFSETTO:+0100
TZNAME:Europe/Berlin CET
END:STANDARD
BEGIN:STANDARD
DTSTART:20191027T020000
RDATE:20200329T030000
TZOFFSETFROM:+0200
TZOFFSETTO:+0100
TZNAME:Europe/Berlin CET
END:STANDARD
BEGIN:STANDARD
DTSTART:20201025T020000
RDATE:20210328T030000
TZOFFSETFROM:+0200
TZOFFSETTO:+0100
TZNAME:Europe/Berlin CET
END:STANDARD
BEGIN:DAYLIGHT
DTSTART:20161017T190000
RDATE:20161030T020000
TZOFFSETFROM:+0100
TZOFFSETTO:+0200
TZNAME:Europe/Berlin CEST
END:DAYLIGHT
BEGIN:DAYLIGHT
DTSTART:20170326T030000
RDATE:20171029T020000
TZOFFSETFROM:+0100
TZOFFSETTO:+0200
TZNAME:Europe/Berlin CEST
END:DAYLIGHT
BEGIN:DAYLIGHT
DTSTART:20180325T030000
RDATE:20181028T020000
TZOFFSETFROM:+0100
TZOFFSETTO:+0200
TZNAME:Europe/Berlin CEST
END:DAYLIGHT
BEGIN:DAYLIGHT
DTSTART:20190331T030000
RDATE:20191027T020000
TZOFFSETFROM:+0100
TZOFFSETTO:+0200
TZNAME:Europe/Berlin CEST
END:DAYLIGHT
BEGIN:DAYLIGHT
DTSTART:20200329T030000
RDATE:20201025T020000
TZOFFSETFROM:+0100
TZOFFSETTO:+0200
TZNAME:Europe/Berlin CEST
END:DAYLIGHT
END:VTIMEZONE
BEGIN:VEVENT
UID:d75df3da71dab00f27097a9193849a57
CATEGORIES:ADG-Termine
CREATED:20170522T152740
SUMMARY:ADG-Mitgliederversammlung 2017
LOCATION:Kulturhaus Neuperlach\, Hanns-Seidel-Platz 1\, 81737 München\,
DESCRIPTION:Vortrag von Otto W. TeufelVersicherungsfremde Leistungen; \n- Sondersteuer 
 für Arbeitnehmer und Rentner\n- Steuerermäßigungsprogramm für Politiker, hö
 here Beamte u.a.\nanschließend\nVereinTagesordnung:\n - Begrüßen der Teilne
 hmer, Feststellen der ordnungsgemäßen Einladung und der Beschlussfähigkeit 
 der Versammlung Herr Hein\n\n - Bericht des Vorstands Herr Hein\n\n - Beric
 ht der Schatzmeisterin Frau Guggenberger,\n\n - Bericht der Kassenprüfer He
 rr Hauser, Herr Hospe\n\n - Diskussion zu den Tagesordnungspunkten 2, 3 und
  4\n\n - Bericht über die Satzungsänderungen\n\n - Abstimmung über die Satz
 ung\n
X-ALT-DESC;FMTTYPE=text/html:<h3>Vortrag von Otto W. Teufel</h3><p><strong><span class="default" style="
 color: #666666; font-family: Arial,Helvetica,sans-serif; font-size: 14px;">
 Versicherungsfremde Leistungen;</span>&nbsp;</strong><br />- Sondersteuer f
 &uuml;r Arbeitnehmer und Rentner<br />- Steuererm&auml;&szlig;igungsprogram
 m f&uuml;r Politiker, h&ouml;here Beamte u.a.</p><p>anschlie&szlig;end</p><
 h3>Verein</h3><section><h3 class="western" style="margin-bottom: 0.2cm; tex
 t-align: left;"><span style="font-size: small;"><strong>Tagesordnung:</stro
 ng></span></h3><ol><li><p>Begr&uuml;&szlig;en der Teilnehmer, Feststellen d
 er ordnungsgem&auml;&szlig;en Einladung und der Beschlussf&auml;higkeit der
  Versammlung Herr Hein</p></li><li><p>Bericht des Vorstands Herr Hein</p></
 li><li><p>Bericht der Schatzmeisterin Frau Guggenberger,</p></li><li><p>Ber
 icht der Kassenpr&uuml;fer Herr Hauser, Herr Hospe</p></li><li><p>Diskussio
 n zu den Tagesordnungspunkten 2, 3 und 4</p></li><li><p>Bericht &uuml;ber d
 ie Satzungs&auml;nderungen</p></li><li><p class="western" style="margin-bot
 tom: 0.14cm; text-align: left;">Abstimmung &uuml;ber die Satzung<span style
 ="font-family: Frutiger-Light;"><span style="font-size: small;"><br style="
 font-size: small;" /></span></span></p></li></ol></section>
X-EXTRAINFO:19:00 Uhr bis 21:00 Uhr
DTSTAMP:20260421T102539
DTSTART;TZID=Europe/Berlin:20171018T190000
DTEND;TZID=Europe/Berlin:20171018T210000
SEQUENCE:0
TRANSP:OPAQUE
END:VEVENT
END:VCALENDAR