BEGIN:VCALENDAR
VERSION:2.0
PRODID:-//jEvents 2.0 for Joomla//EN
CALSCALE:GREGORIAN
METHOD:PUBLISH
BEGIN:VTIMEZONE
TZID:Europe/Berlin
BEGIN:STANDARD
DTSTART:20170131T170000
RDATE:20170326T030000
TZOFFSETFROM:+0200
TZOFFSETTO:+0100
TZNAME:Europe/Berlin CET
END:STANDARD
BEGIN:STANDARD
DTSTART:20171029T020000
RDATE:20180325T030000
TZOFFSETFROM:+0200
TZOFFSETTO:+0100
TZNAME:Europe/Berlin CET
END:STANDARD
BEGIN:STANDARD
DTSTART:20181028T020000
RDATE:20190331T030000
TZOFFSETFROM:+0200
TZOFFSETTO:+0100
TZNAME:Europe/Berlin CET
END:STANDARD
BEGIN:STANDARD
DTSTART:20191027T020000
RDATE:20200329T030000
TZOFFSETFROM:+0200
TZOFFSETTO:+0100
TZNAME:Europe/Berlin CET
END:STANDARD
BEGIN:STANDARD
DTSTART:20201025T020000
RDATE:20210328T030000
TZOFFSETFROM:+0200
TZOFFSETTO:+0100
TZNAME:Europe/Berlin CET
END:STANDARD
BEGIN:DAYLIGHT
DTSTART:20170326T030000
RDATE:20171029T020000
TZOFFSETFROM:+0100
TZOFFSETTO:+0200
TZNAME:Europe/Berlin CEST
END:DAYLIGHT
BEGIN:DAYLIGHT
DTSTART:20180325T030000
RDATE:20181028T020000
TZOFFSETFROM:+0100
TZOFFSETTO:+0200
TZNAME:Europe/Berlin CEST
END:DAYLIGHT
BEGIN:DAYLIGHT
DTSTART:20190331T030000
RDATE:20191027T020000
TZOFFSETFROM:+0100
TZOFFSETTO:+0200
TZNAME:Europe/Berlin CEST
END:DAYLIGHT
BEGIN:DAYLIGHT
DTSTART:20200329T030000
RDATE:20201025T020000
TZOFFSETFROM:+0100
TZOFFSETTO:+0200
TZNAME:Europe/Berlin CEST
END:DAYLIGHT
END:VTIMEZONE
BEGIN:VEVENT
UID:a9826d563698bd1a351434e2c755160e
CATEGORIES:Politik
CREATED:20180131T110616
SUMMARY:Zukunft der gesetzlichen Rente
LOCATION:Lazarettstr. 33\, 80636 München\, 
DESCRIPTION:Veranstaltung der Hans Seidel Stiftung mit Katholische Arbeitnehmerbewegung
 Katholische Arbeitnehmerbewegung (https://www.hss.de/veranstaltungen/zukunf
 t-der-gesetzlichen-rente-evt2077/)\n
X-ALT-DESC;FMTTYPE=text/html:<p><a href="https://www.hss.de/veranstaltungen/zukunft-der-gesetzlichen-ren
 te-evt2077/" target="_blank" rel="noopener noreferrer">Veranstaltung der Ha
 ns Seidel Stiftung mit Katholische ArbeitnehmerbewegungKatholische Arbeitne
 hmerbewegung</a></p>
DTSTAMP:20260421T080044
DTSTART;TZID=Europe/Berlin:20180201T170000
DTEND;TZID=Europe/Berlin:20180201T190000
SEQUENCE:0
TRANSP:OPAQUE
END:VEVENT
END:VCALENDAR