BEGIN:VCALENDAR
VERSION:2.0
PRODID:-//jEvents 2.0 for Joomla//EN
CALSCALE:GREGORIAN
METHOD:PUBLISH
BEGIN:VTIMEZONE
TZID:Europe/Berlin
BEGIN:STANDARD
DTSTART:20141026T020000
RDATE:20150329T030000
TZOFFSETFROM:+0200
TZOFFSETTO:+0100
TZNAME:Europe/Berlin CET
END:STANDARD
BEGIN:STANDARD
DTSTART:20151025T020000
RDATE:20160327T030000
TZOFFSETFROM:+0200
TZOFFSETTO:+0100
TZNAME:Europe/Berlin CET
END:STANDARD
BEGIN:STANDARD
DTSTART:20161030T020000
RDATE:20170326T030000
TZOFFSETFROM:+0200
TZOFFSETTO:+0100
TZNAME:Europe/Berlin CET
END:STANDARD
BEGIN:STANDARD
DTSTART:20171029T020000
RDATE:20180325T030000
TZOFFSETFROM:+0200
TZOFFSETTO:+0100
TZNAME:Europe/Berlin CET
END:STANDARD
BEGIN:STANDARD
DTSTART:20181028T020000
RDATE:20190331T030000
TZOFFSETFROM:+0200
TZOFFSETTO:+0100
TZNAME:Europe/Berlin CET
END:STANDARD
BEGIN:STANDARD
DTSTART:20191027T020000
RDATE:20200329T030000
TZOFFSETFROM:+0200
TZOFFSETTO:+0100
TZNAME:Europe/Berlin CET
END:STANDARD
BEGIN:STANDARD
DTSTART:20201025T020000
RDATE:20210328T030000
TZOFFSETFROM:+0200
TZOFFSETTO:+0100
TZNAME:Europe/Berlin CET
END:STANDARD
BEGIN:DAYLIGHT
DTSTART:20140428T130000
RDATE:20141026T020000
TZOFFSETFROM:+0100
TZOFFSETTO:+0200
TZNAME:Europe/Berlin CEST
END:DAYLIGHT
BEGIN:DAYLIGHT
DTSTART:20150329T030000
RDATE:20151025T020000
TZOFFSETFROM:+0100
TZOFFSETTO:+0200
TZNAME:Europe/Berlin CEST
END:DAYLIGHT
BEGIN:DAYLIGHT
DTSTART:20160327T030000
RDATE:20161030T020000
TZOFFSETFROM:+0100
TZOFFSETTO:+0200
TZNAME:Europe/Berlin CEST
END:DAYLIGHT
BEGIN:DAYLIGHT
DTSTART:20170326T030000
RDATE:20171029T020000
TZOFFSETFROM:+0100
TZOFFSETTO:+0200
TZNAME:Europe/Berlin CEST
END:DAYLIGHT
BEGIN:DAYLIGHT
DTSTART:20180325T030000
RDATE:20181028T020000
TZOFFSETFROM:+0100
TZOFFSETTO:+0200
TZNAME:Europe/Berlin CEST
END:DAYLIGHT
BEGIN:DAYLIGHT
DTSTART:20190331T030000
RDATE:20191027T020000
TZOFFSETFROM:+0100
TZOFFSETTO:+0200
TZNAME:Europe/Berlin CEST
END:DAYLIGHT
BEGIN:DAYLIGHT
DTSTART:20200329T030000
RDATE:20201025T020000
TZOFFSETFROM:+0100
TZOFFSETTO:+0200
TZNAME:Europe/Berlin CEST
END:DAYLIGHT
END:VTIMEZONE
BEGIN:VEVENT
UID:e1c955890d2a8973210cbec71a27c2e9
CATEGORIES:Rundfunk&Fernsehen
CREATED:20150428T215309
SUMMARY:alpha-Forum: Rudolf Dressler
DESCRIPTION:Im alpha-Forum kommen Persönlichkeiten aus Politik und Wirtschaft, Wissensc
 haft und Gesellschaft, Religion und Kultur in 45 Minuten ausführlich zu Wor
 t. In hintergründigen Zwiegesprächen entstehen Porträts der Interviewten, i
 n denen genügend Zeit für Details und Nuancen bleibt. Nicht das kurze, medi
 engerechte Zitat, sondern der Lebensweg des Gesprächspartners mit all seine
 n Erfolgen und Rückschlägen steht im Mittelpunkt von alpha-Forum.Rudolf Dre
 ßler war zwanzig Jahre Mitglied des Deutschen Bundestages, er war Vorsitzen
 der der Arbeitsgemeinschaft für Arbeitnehmerfragen, Mitglied im Parteivorst
 and und im Präsidium der SPD. Von 2000 bis 2005 war er Botschafter der Bund
 esrepublik Deutschland in Israel.\nModeration: Werner Reuß\nSendung verpass
 t?\nSendung in der Mediathek!\nBR alpha-Forumalpha-Forum (http://www.br.de/
 fernsehen/ard-alpha/programmkalender/sendung-884914.html)\n
X-ALT-DESC;FMTTYPE=text/html:<div>Im alpha-Forum kommen Persönlichkeiten aus Politik und Wirtschaft, Wis
 senschaft und Gesellschaft, Religion und Kultur in 45 Minuten ausführlich z
 u Wort. In hintergründigen Zwiegesprächen entstehen Porträts der Interviewt
 en, in denen genügend Zeit für Details und Nuancen bleibt. Nicht das kurze,
  mediengerechte Zitat, sondern der Lebensweg des Gesprächspartners mit all 
 seinen Erfolgen und Rückschlägen steht im Mittelpunkt von alpha-Forum.</div
 ><p>Rudolf Dreßler war zwanzig Jahre Mitglied des Deutschen Bundestages, er
  war Vorsitzender der Arbeitsgemeinschaft für Arbeitnehmerfragen, Mitglied 
 im Parteivorstand und im Präsidium der SPD. Von 2000 bis 2005 war er Botsch
 after der Bundesrepublik Deutschland in Israel.<br />Moderation: Werner Reu
 ß</p><p>Sendung verpasst?</p><p>Sendung in der Mediathek!</p><p><a href="ht
 tp://www.br.de/fernsehen/ard-alpha/programmkalender/sendung-884914.html" ta
 rget="_blank">BR alpha-Forumalpha-Forum</a></p>
DTSTAMP:20260421T103236
DTSTART;TZID=Europe/Berlin:20150429T130000
DTEND;TZID=Europe/Berlin:20150429T134500
SEQUENCE:0
TRANSP:OPAQUE
END:VEVENT
END:VCALENDAR