BEGIN:VCALENDAR
VERSION:2.0
PRODID:-//jEvents 2.0 for Joomla//EN
CALSCALE:GREGORIAN
METHOD:PUBLISH
BEGIN:VTIMEZONE
TZID:Europe/Berlin
BEGIN:STANDARD
DTSTART:20171029T020000
RDATE:20180325T030000
TZOFFSETFROM:+0200
TZOFFSETTO:+0100
TZNAME:Europe/Berlin CET
END:STANDARD
BEGIN:STANDARD
DTSTART:20181028T020000
RDATE:20190331T030000
TZOFFSETFROM:+0200
TZOFFSETTO:+0100
TZNAME:Europe/Berlin CET
END:STANDARD
BEGIN:STANDARD
DTSTART:20191027T020000
RDATE:20200329T030000
TZOFFSETFROM:+0200
TZOFFSETTO:+0100
TZNAME:Europe/Berlin CET
END:STANDARD
BEGIN:STANDARD
DTSTART:20201025T020000
RDATE:20210328T030000
TZOFFSETFROM:+0200
TZOFFSETTO:+0100
TZNAME:Europe/Berlin CET
END:STANDARD
BEGIN:DAYLIGHT
DTSTART:20170416T183000
RDATE:20171029T020000
TZOFFSETFROM:+0100
TZOFFSETTO:+0200
TZNAME:Europe/Berlin CEST
END:DAYLIGHT
BEGIN:DAYLIGHT
DTSTART:20180325T030000
RDATE:20181028T020000
TZOFFSETFROM:+0100
TZOFFSETTO:+0200
TZNAME:Europe/Berlin CEST
END:DAYLIGHT
BEGIN:DAYLIGHT
DTSTART:20190331T030000
RDATE:20191027T020000
TZOFFSETFROM:+0100
TZOFFSETTO:+0200
TZNAME:Europe/Berlin CEST
END:DAYLIGHT
BEGIN:DAYLIGHT
DTSTART:20200329T030000
RDATE:20201025T020000
TZOFFSETFROM:+0100
TZOFFSETTO:+0200
TZNAME:Europe/Berlin CEST
END:DAYLIGHT
END:VTIMEZONE
BEGIN:VEVENT
UID:03f67e486b10e7c2765e9e6d7478fa7a
CATEGORIES:Rente
CREATED:20180322T160537
SUMMARY:Vortrag zum Thema „ Was tut die Rente für die Familien“
LOCATION:Nachbarschaftstreff WAPE in Waldperlach Tagesseminar.
DESCRIPTION:Schwerpunkt Pflege im Haushalt, Kindererziehung und Hinterbliebenenschutz.\
 nAnmeldung bis 10.04.2018 per Mail unter Diese E-Mail-Adresse ist vor Spamb
 ots geschützt! Zur Anzeige muss JavaScript eingeschaltet sein!
				document
 .getElementById('cloak219742bf651eb67971d0a7501e136ba1').innerHTML = '';
		
 		var prefix = '&#109;a' + 'i&#108;' + '&#116;o';
				var path = 'hr' + 'ef
 ' + '=';
				var addy219742bf651eb67971d0a7501e136ba1 = 'Anm&#101;ld&#117;n
 g' + '&#64;';
				addy219742bf651eb67971d0a7501e136ba1 = addy219742bf651eb6
 7971d0a7501e136ba1 + 'w&#97;ldp&#101;rl&#97;ch' + '&#46;' + 'd&#101;';
				
 var addy_text219742bf651eb67971d0a7501e136ba1 = 'Anm&#101;ld&#117;ng' + '&#
 64;' + 'w&#97;ldp&#101;rl&#97;ch' + '&#46;' + 'd&#101;';document.getElement
 ById('cloak219742bf651eb67971d0a7501e136ba1').innerHTML += '<a ' + path + '
 \'' + prefix + ':' + addy219742bf651eb67971d0a7501e136ba1 + '\'>'+addy_text
 219742bf651eb67971d0a7501e136ba1+'';
		 oder Tel. 089/24 40 50 20.\n \n
X-ALT-DESC;FMTTYPE=text/html:<p>Schwerpunkt Pflege im Haushalt, Kindererziehung und Hinterbliebenenschut
 z.</p><p>Anmeldung bis 10.04.2018 per Mail unter <span id="cloak219742bf651
 eb67971d0a7501e136ba1">Diese E-Mail-Adresse ist vor Spambots geschützt! Zur
  Anzeige muss JavaScript eingeschaltet sein!</span><script type='text/javas
 cript'>
				document.getElementById('cloak219742bf651eb67971d0a7501e136ba1'
 ).innerHTML = '';
				var prefix = '&#109;a' + 'i&#108;' + '&#116;o';
				v
 ar path = 'hr' + 'ef' + '=';
				var addy219742bf651eb67971d0a7501e136ba1 =
  'Anm&#101;ld&#117;ng' + '&#64;';
				addy219742bf651eb67971d0a7501e136ba1 
 = addy219742bf651eb67971d0a7501e136ba1 + 'w&#97;ldp&#101;rl&#97;ch' + '&#46
 ;' + 'd&#101;';
				var addy_text219742bf651eb67971d0a7501e136ba1 = 'Anm&#1
 01;ld&#117;ng' + '&#64;' + 'w&#97;ldp&#101;rl&#97;ch' + '&#46;' + 'd&#101;'
 ;document.getElementById('cloak219742bf651eb67971d0a7501e136ba1').innerHTML
  += '<a ' + path + '\'' + prefix + ':' + addy219742bf651eb67971d0a7501e136b
 a1 + '\'>'+addy_text219742bf651eb67971d0a7501e136ba1+'<\/a>';
		</script> o
 der Tel. 089/24 40 50 20.</p><p>&nbsp;</p>
DTSTAMP:20260421T103324
DTSTART;TZID=Europe/Berlin:20180417T183000
SEQUENCE:0
TRANSP:OPAQUE
END:VEVENT
END:VCALENDAR