BEGIN:VCALENDAR
VERSION:2.0
PRODID:-//jEvents 2.0 for Joomla//EN
CALSCALE:GREGORIAN
METHOD:PUBLISH
BEGIN:VTIMEZONE
TZID:Europe/Berlin
BEGIN:STANDARD
DTSTART:20171029T020000
RDATE:20180325T030000
TZOFFSETFROM:+0200
TZOFFSETTO:+0100
TZNAME:Europe/Berlin CET
END:STANDARD
BEGIN:STANDARD
DTSTART:20181028T020000
RDATE:20190331T030000
TZOFFSETFROM:+0200
TZOFFSETTO:+0100
TZNAME:Europe/Berlin CET
END:STANDARD
BEGIN:STANDARD
DTSTART:20191027T020000
RDATE:20200329T030000
TZOFFSETFROM:+0200
TZOFFSETTO:+0100
TZNAME:Europe/Berlin CET
END:STANDARD
BEGIN:STANDARD
DTSTART:20201025T020000
RDATE:20210328T030000
TZOFFSETFROM:+0200
TZOFFSETTO:+0100
TZNAME:Europe/Berlin CET
END:STANDARD
BEGIN:DAYLIGHT
DTSTART:20170403T120000
RDATE:20171029T020000
TZOFFSETFROM:+0100
TZOFFSETTO:+0200
TZNAME:Europe/Berlin CEST
END:DAYLIGHT
BEGIN:DAYLIGHT
DTSTART:20180325T030000
RDATE:20181028T020000
TZOFFSETFROM:+0100
TZOFFSETTO:+0200
TZNAME:Europe/Berlin CEST
END:DAYLIGHT
BEGIN:DAYLIGHT
DTSTART:20190331T030000
RDATE:20191027T020000
TZOFFSETFROM:+0100
TZOFFSETTO:+0200
TZNAME:Europe/Berlin CEST
END:DAYLIGHT
BEGIN:DAYLIGHT
DTSTART:20200329T030000
RDATE:20201025T020000
TZOFFSETFROM:+0100
TZOFFSETTO:+0200
TZNAME:Europe/Berlin CEST
END:DAYLIGHT
END:VTIMEZONE
BEGIN:VEVENT
UID:ead470c0a7b074632644068713ac3837
CATEGORIES:Politik
CREATED:20180326T122739
SUMMARY:Wachsende Ungleichheit – gespaltene Gesellschaft?
LOCATION:Carl Friedrich von Siemens Stiftung\, Südliches Schlossrondel 23\, München-
 Nymphenburg
DESCRIPTION:Erster Kongress der Akademie für Soziologie (https://akademie-soziologie.de
 /konferenzen/)Was ist das Ziel der Tagung? Siehe dazu den Aufruf für Beiträ
 ge (https://akademie-soziologie.de/wp-content/uploads/2017/09/CfPAkademie_M
 %C3%BCnchen2018.pdf).\nProgramm  \nWissenschaftliche Organisation: Katrin A
 uspurg und Josef Brüderl, LMU München \n(STAND: 11. Februar 2018) \nMittwoc
 h, 4. April  \n12:00 Registrierung \nEinführung in das Kongressthema \n12:4
 5 Begrüßung Katrin Auspurg \n13:00 Zur Standortbestimmung der Soziologie Th
 omas Hinz (Vorsitzender der Akademie) \n13:30 Empirisch-analytische Ungleic
 hheitsforschung Josef Brüderl &amp; Katrin Auspurg \n14:30 Kaffeepause \nMo
 bilität (Arbeitsmarktkarrieren) \n15:00 Zunehmende Instabilität von Erwerbs
 verläufen? Empirischer Forschungsstand und PerspektivenMichael Gebel \n15:2
 0 Employment trajectories in heterogeneous regions: Evidence from Germany \
 nMatthias Dütsch,Franziska Ganesch &amp; Olaf Struck \n15:35 The relational
  nature of employment dualization: Evidence from subcontracting \nestablish
 ments Fabian Ochsenfeld \n15:50 Diskussion \nAktuelle Themen der empirisch-
 analytischen Ungleichheitsforschung \n16:00 Was bleibt von einer Krise? Zum
  Zusammenhang von Arbeitsmarktbedingungen beim Berufseinstieg und ökonomisc
 her Ungleichheit im Lebensverlauf Markus Gangl \n16:30 Ursachen und Wandel 
 von Geschlechterungleichheiten Daniela Grunow \n17:00 Mittelschicht in Deut
 schland: geschrumpft und verängstigt? Stand und Perspektiven der Forschung 
 Holger Lengfeld \n17:30 Wissenstransfer ist mehr als Politikberatung: Anmer
 kungen aus Sicht der Sozialwissenschaften Gert Wagner \n18:00 Apéro mit Imb
 iss in der Carl Friedrich von Siemens Stiftung \n \nDonnerstag, 5. April  \
 nEinkommensungleichheit  \n09:00 Einführung und Überblick Olaf Groh-Samberg
  \n09:20 Obtaining population-wide inequality estimates for Switzerland by 
 reweighting high-quality subpopulation tax data Rudolf Farys, Oliver Hümbel
 in &amp; Ben Jann \n09:35 Keeping pace or lose the race? Low-wage household
 s and income inequality in the USA and Germany, 1992-2014 Barbara Binder &a
 mp; Andreas Haupt \n09:50 Sources of German income inequality across time a
 nd space Franziska K. Deutschmann \n10:05 Enttäuschte Aufstiegshoffnungen? 
 Eine Untersuchung zur Einkommensentwicklung in Deutschland 1995-2015 Karin 
 Kurz &amp; Jörg Hartmann \n10:20 Diskussion \n10:45 Kaffeepause \nEinkommen
 sungleichheit nach Lebensform \n11:15 Der Anstieg der Armut seit den 1970er
  Jahren. Eine Folge von polarisierungstendenzen zwischen Familien- und Nich
 tfamiliensektor? Mara Boehle \n11:30 Die Einkommenssituation Alleinerziehen
 der von 1997 bis 2015 Eine detaillierte Effekt-Dekomposition der Einkommen 
 alleinerziehender und verheirateter Mütter in Deutschland Franz Neuberger &
 amp; Klaus Preisner \n11:45 Development of family incomes since the 1990s: 
 A fresh look at German microdata using income-dependent equivalence scales 
 Jan M. Garbuszus, Sebastian Pehle, Notburga Ott &amp; Martin Werding \n12:0
 0 Diskussion \n12:15 Mittagspause mit Imbiss in der Carl Friedrich von Siem
 ens Stiftung\n
X-ALT-DESC;FMTTYPE=text/html:<h5><a href="https://akademie-soziologie.de/konferenzen/" target="_blank" r
 el="noopener noreferrer">Erster Kongress der Akademie f&uuml;r Soziologie</
 a></h5><p>Was ist das Ziel der Tagung? Siehe dazu den <a href="https://akad
 emie-soziologie.de/wp-content/uploads/2017/09/CfPAkademie_M%C3%BCnchen2018.
 pdf" target="_blank" rel="noopener noreferrer">Aufruf f&uuml;r Beitr&auml;g
 e</a>.</p><p><strong>Programm </strong> <br />Wissenschaftliche Organisatio
 n: Katrin Auspurg und Josef Br&uuml;derl, LMU M&uuml;nchen <br />(STAND: 11
 . Februar 2018) <br /><strong>Mittwoch, 4. April </strong> <br />12:00 Regi
 strierung <br /><strong>Einf&uuml;hrung in das Kongressthema</strong> <br /
 >12:45 Begr&uuml;&szlig;ung Katrin Auspurg <br />13:00 Zur Standortbestimmu
 ng der Soziologie Thomas Hinz (Vorsitzender der Akademie) <br />13:30 Empir
 isch-analytische Ungleichheitsforschung Josef Br&uuml;derl &amp; Katrin Aus
 purg <br />14:30 Kaffeepause <br /><strong>Mobilit&auml;t (Arbeitsmarktkarr
 ieren)</strong> <br />15:00 Zunehmende Instabilit&auml;t von Erwerbsverl&au
 ml;ufen? Empirischer Forschungsstand und PerspektivenMichael Gebel <br />15
 :20 Employment trajectories in heterogeneous regions: Evidence from Germany
  <br />Matthias D&uuml;tsch,Franziska Ganesch &amp; Olaf Struck <br />15:35
  The relational nature of employment dualization: Evidence from subcontract
 ing <br />establishments Fabian Ochsenfeld <br />15:50 Diskussion <br /><st
 rong>Aktuelle Themen der empirisch-analytischen Ungleichheitsforschung</str
 ong> <br />16:00 Was bleibt von einer Krise? Zum Zusammenhang von Arbeitsma
 rktbedingungen beim Berufseinstieg und &ouml;konomischer Ungleichheit im Le
 bensverlauf Markus Gangl <br />16:30 Ursachen und Wandel von Geschlechterun
 gleichheiten Daniela Grunow <br />17:00 Mittelschicht in Deutschland: gesch
 rumpft und ver&auml;ngstigt? Stand und Perspektiven der Forschung Holger Le
 ngfeld <br />17:30 Wissenstransfer ist mehr als Politikberatung: Anmerkunge
 n aus Sicht der Sozialwissenschaften Gert Wagner <br />18:00 Ap&eacute;ro m
 it Imbiss in der Carl Friedrich von Siemens Stiftung <br /> <br /><strong>D
 onnerstag, 5. April </strong> <br /><strong>Einkommensungleichheit </strong
 > <br />09:00 Einf&uuml;hrung und &Uuml;berblick Olaf Groh-Samberg <br />09
 :20 Obtaining population-wide inequality estimates for Switzerland by rewei
 ghting high-quality subpopulation tax data Rudolf Farys, Oliver H&uuml;mbel
 in &amp; Ben Jann <br />09:35 Keeping pace or lose the race? Low-wage house
 holds and income inequality in the USA and Germany, 1992-2014 Barbara Binde
 r &amp; Andreas Haupt <br />09:50 Sources of German income inequality acros
 s time and space Franziska K. Deutschmann <br />10:05 Entt&auml;uschte Aufs
 tiegshoffnungen? Eine Untersuchung zur Einkommensentwicklung in Deutschland
  1995-2015 Karin Kurz &amp; J&ouml;rg Hartmann <br />10:20 Diskussion <br /
 >10:45 Kaffeepause <br /><strong>Einkommensungleichheit nach Lebensform</st
 rong> <br />11:15 Der Anstieg der Armut seit den 1970er Jahren. Eine Folge 
 von polarisierungstendenzen zwischen Familien- und Nichtfamiliensektor? Mar
 a Boehle <br />11:30 Die Einkommenssituation Alleinerziehender von 1997 bis
  2015 Eine detaillierte Effekt-Dekomposition der Einkommen alleinerziehende
 r und verheirateter M&uuml;tter in Deutschland Franz Neuberger &amp; Klaus 
 Preisner <br />11:45 Development of family incomes since the 1990s: A fresh
  look at German microdata using income-dependent equivalence scales Jan M. 
 Garbuszus, Sebastian Pehle, Notburga Ott &amp; Martin Werding <br />12:00 D
 iskussion <br />12:15 Mittagspause mit Imbiss in der Carl Friedrich von Sie
 mens Stiftung</p>
DTSTAMP:20260421T103323
DTSTART;TZID=Europe/Berlin:20180404T120000
DTEND;TZID=Europe/Berlin;VALUE=DATE:20180406
SEQUENCE:0
TRANSP:OPAQUE
END:VEVENT
END:VCALENDAR