BEGIN:VCALENDAR
VERSION:2.0
PRODID:-//jEvents 2.0 for Joomla//EN
CALSCALE:GREGORIAN
METHOD:PUBLISH
BEGIN:VTIMEZONE
TZID:Europe/Berlin
BEGIN:STANDARD
DTSTART:20190105T100000
RDATE:20190331T030000
TZOFFSETFROM:+0200
TZOFFSETTO:+0100
TZNAME:Europe/Berlin CET
END:STANDARD
BEGIN:STANDARD
DTSTART:20191027T020000
RDATE:20200329T030000
TZOFFSETFROM:+0200
TZOFFSETTO:+0100
TZNAME:Europe/Berlin CET
END:STANDARD
BEGIN:STANDARD
DTSTART:20201025T020000
RDATE:20210328T030000
TZOFFSETFROM:+0200
TZOFFSETTO:+0100
TZNAME:Europe/Berlin CET
END:STANDARD
BEGIN:DAYLIGHT
DTSTART:20190331T030000
RDATE:20191027T020000
TZOFFSETFROM:+0100
TZOFFSETTO:+0200
TZNAME:Europe/Berlin CEST
END:DAYLIGHT
BEGIN:DAYLIGHT
DTSTART:20200329T030000
RDATE:20201025T020000
TZOFFSETFROM:+0100
TZOFFSETTO:+0200
TZNAME:Europe/Berlin CEST
END:DAYLIGHT
END:VTIMEZONE
BEGIN:VEVENT
UID:912a6b04137fe2680931dd82287a4aaa
CATEGORIES:ADG-Termine
CREATED:20150225T165850
SUMMARY:ADG AK-SV
DESCRIPTION:Treffen der Aktionsgruppe Sozialversicherung\nWir treffen uns ab 30. März 2
 020 bis auf Weiteres im Internet. Bitte fragen Sie über Diese E-Mail-Adress
 e ist vor Spambots geschützt! Zur Anzeige muss JavaScript eingeschaltet sei
 n!
				document.getElementById('cloakd323b19291c9b2381fac8ce3d3ed821f').inn
 erHTML = '';
				var prefix = '&#109;a' + 'i&#108;' + '&#116;o';
				var pa
 th = 'hr' + 'ef' + '=';
				var addyd323b19291c9b2381fac8ce3d3ed821f = '&#1
 05;nf&#111;' + '&#64;';
				addyd323b19291c9b2381fac8ce3d3ed821f = addyd323
 b19291c9b2381fac8ce3d3ed821f + '&#97;dg-&#101;v' + '&#46;' + 'd&#101;';
			
 	var addy_textd323b19291c9b2381fac8ce3d3ed821f = '&#105;nf&#111;' + '&#64;'
  + '&#97;dg-&#101;v' + '&#46;' + 'd&#101;';document.getElementById('cloakd3
 23b19291c9b2381fac8ce3d3ed821f').innerHTML += '<a ' + path + '\'' + prefix 
 + ':' + addyd323b19291c9b2381fac8ce3d3ed821f + '\' style="color: #ff0000;">
 '+addy_textd323b19291c9b2381fac8ce3d3ed821f+'';
		 nach.\n
X-ALT-DESC;FMTTYPE=text/html:<p>Treffen der Aktionsgruppe Sozialversicherung</p><p><span style="color: #
 ff0000;"><strong>Wir treffen uns <span style="color: #ff0000;"><strong>ab 3
 0. M&auml;rz 2020 bis auf Weiteres </strong></span>im Internet. Bitte frage
 n Sie &uuml;ber <span id="cloakd323b19291c9b2381fac8ce3d3ed821f">Diese E-Ma
 il-Adresse ist vor Spambots geschützt! Zur Anzeige muss JavaScript eingesch
 altet sein!</span><script type='text/javascript'>
				document.getElementBy
 Id('cloakd323b19291c9b2381fac8ce3d3ed821f').innerHTML = '';
				var prefix 
 = '&#109;a' + 'i&#108;' + '&#116;o';
				var path = 'hr' + 'ef' + '=';
				
 var addyd323b19291c9b2381fac8ce3d3ed821f = '&#105;nf&#111;' + '&#64;';
				
 addyd323b19291c9b2381fac8ce3d3ed821f = addyd323b19291c9b2381fac8ce3d3ed821f
  + '&#97;dg-&#101;v' + '&#46;' + 'd&#101;';
				var addy_textd323b19291c9b2
 381fac8ce3d3ed821f = '&#105;nf&#111;' + '&#64;' + '&#97;dg-&#101;v' + '&#46
 ;' + 'd&#101;';document.getElementById('cloakd323b19291c9b2381fac8ce3d3ed82
 1f').innerHTML += '<a ' + path + '\'' + prefix + ':' + addyd323b19291c9b238
 1fac8ce3d3ed821f + '\' style="color: #ff0000;">'+addy_textd323b19291c9b2381
 fac8ce3d3ed821f+'<\/a>';
		</script> nach.</strong></span></p>
DTSTAMP:20260421T092655
DTSTART;TZID=Europe/Berlin:20200106T100000
DTEND;TZID=Europe/Berlin:20200106T120000
SEQUENCE:0
TRANSP:OPAQUE
END:VEVENT
END:VCALENDAR