BEGIN:VCALENDAR
VERSION:2.0
PRODID:-//jEvents 2.0 for Joomla//EN
CALSCALE:GREGORIAN
METHOD:PUBLISH
BEGIN:VTIMEZONE
TZID:Europe/Berlin
BEGIN:STANDARD
DTSTART:20171125T100000
RDATE:20180325T030000
TZOFFSETFROM:+0200
TZOFFSETTO:+0100
TZNAME:Europe/Berlin CET
END:STANDARD
BEGIN:STANDARD
DTSTART:20181028T020000
RDATE:20190331T030000
TZOFFSETFROM:+0200
TZOFFSETTO:+0100
TZNAME:Europe/Berlin CET
END:STANDARD
BEGIN:STANDARD
DTSTART:20191027T020000
RDATE:20200329T030000
TZOFFSETFROM:+0200
TZOFFSETTO:+0100
TZNAME:Europe/Berlin CET
END:STANDARD
BEGIN:STANDARD
DTSTART:20201025T020000
RDATE:20210328T030000
TZOFFSETFROM:+0200
TZOFFSETTO:+0100
TZNAME:Europe/Berlin CET
END:STANDARD
BEGIN:DAYLIGHT
DTSTART:20180325T030000
RDATE:20181028T020000
TZOFFSETFROM:+0100
TZOFFSETTO:+0200
TZNAME:Europe/Berlin CEST
END:DAYLIGHT
BEGIN:DAYLIGHT
DTSTART:20190331T030000
RDATE:20191027T020000
TZOFFSETFROM:+0100
TZOFFSETTO:+0200
TZNAME:Europe/Berlin CEST
END:DAYLIGHT
BEGIN:DAYLIGHT
DTSTART:20200329T030000
RDATE:20201025T020000
TZOFFSETFROM:+0100
TZOFFSETTO:+0200
TZNAME:Europe/Berlin CEST
END:DAYLIGHT
END:VTIMEZONE
BEGIN:VEVENT
UID:912a6b04137fe2680931dd82287a4aaa
CATEGORIES:ADG-Termine
CREATED:20150225T165850
SUMMARY:ADG AK-SV
DESCRIPTION:Treffen der Aktionsgruppe Sozialversicherung\nWir treffen uns ab 30. März 2
 020 bis auf Weiteres im Internet. Bitte fragen Sie über Diese E-Mail-Adress
 e ist vor Spambots geschützt! Zur Anzeige muss JavaScript eingeschaltet sei
 n!
				document.getElementById('cloak98aee3778474ab5782a0b18bde86d422').inn
 erHTML = '';
				var prefix = '&#109;a' + 'i&#108;' + '&#116;o';
				var pa
 th = 'hr' + 'ef' + '=';
				var addy98aee3778474ab5782a0b18bde86d422 = '&#1
 05;nf&#111;' + '&#64;';
				addy98aee3778474ab5782a0b18bde86d422 = addy98ae
 e3778474ab5782a0b18bde86d422 + '&#97;dg-&#101;v' + '&#46;' + 'd&#101;';
			
 	var addy_text98aee3778474ab5782a0b18bde86d422 = '&#105;nf&#111;' + '&#64;'
  + '&#97;dg-&#101;v' + '&#46;' + 'd&#101;';document.getElementById('cloak98
 aee3778474ab5782a0b18bde86d422').innerHTML += '<a ' + path + '\'' + prefix 
 + ':' + addy98aee3778474ab5782a0b18bde86d422 + '\' style="color: #ff0000;">
 '+addy_text98aee3778474ab5782a0b18bde86d422+'';
		 nach.\n
X-ALT-DESC;FMTTYPE=text/html:<p>Treffen der Aktionsgruppe Sozialversicherung</p><p><span style="color: #
 ff0000;"><strong>Wir treffen uns <span style="color: #ff0000;"><strong>ab 3
 0. M&auml;rz 2020 bis auf Weiteres </strong></span>im Internet. Bitte frage
 n Sie &uuml;ber <span id="cloak98aee3778474ab5782a0b18bde86d422">Diese E-Ma
 il-Adresse ist vor Spambots geschützt! Zur Anzeige muss JavaScript eingesch
 altet sein!</span><script type='text/javascript'>
				document.getElementBy
 Id('cloak98aee3778474ab5782a0b18bde86d422').innerHTML = '';
				var prefix 
 = '&#109;a' + 'i&#108;' + '&#116;o';
				var path = 'hr' + 'ef' + '=';
				
 var addy98aee3778474ab5782a0b18bde86d422 = '&#105;nf&#111;' + '&#64;';
				
 addy98aee3778474ab5782a0b18bde86d422 = addy98aee3778474ab5782a0b18bde86d422
  + '&#97;dg-&#101;v' + '&#46;' + 'd&#101;';
				var addy_text98aee3778474ab
 5782a0b18bde86d422 = '&#105;nf&#111;' + '&#64;' + '&#97;dg-&#101;v' + '&#46
 ;' + 'd&#101;';document.getElementById('cloak98aee3778474ab5782a0b18bde86d4
 22').innerHTML += '<a ' + path + '\'' + prefix + ':' + addy98aee3778474ab57
 82a0b18bde86d422 + '\' style="color: #ff0000;">'+addy_text98aee3778474ab578
 2a0b18bde86d422+'<\/a>';
		</script> nach.</strong></span></p>
DTSTAMP:20260421T102540
DTSTART;TZID=Europe/Berlin:20181126T100000
DTEND;TZID=Europe/Berlin:20181126T120000
SEQUENCE:0
TRANSP:OPAQUE
END:VEVENT
END:VCALENDAR